BEGIN:VCALENDAR
VERSION:2.0
PRODID:-//Upper Susquehanna Synod - ECPv6.15.20//NONSGML v1.0//EN
CALSCALE:GREGORIAN
METHOD:PUBLISH
X-ORIGINAL-URL:https://www.uss-elca.org
X-WR-CALDESC:Events for Upper Susquehanna Synod
REFRESH-INTERVAL;VALUE=DURATION:PT1H
X-Robots-Tag:noindex
X-PUBLISHED-TTL:PT1H
BEGIN:VTIMEZONE
TZID:America/New_York
BEGIN:DAYLIGHT
TZOFFSETFROM:-0500
TZOFFSETTO:-0400
TZNAME:EDT
DTSTART:20230312T070000
END:DAYLIGHT
BEGIN:STANDARD
TZOFFSETFROM:-0400
TZOFFSETTO:-0500
TZNAME:EST
DTSTART:20231105T060000
END:STANDARD
BEGIN:DAYLIGHT
TZOFFSETFROM:-0500
TZOFFSETTO:-0400
TZNAME:EDT
DTSTART:20240310T070000
END:DAYLIGHT
BEGIN:STANDARD
TZOFFSETFROM:-0400
TZOFFSETTO:-0500
TZNAME:EST
DTSTART:20241103T060000
END:STANDARD
BEGIN:DAYLIGHT
TZOFFSETFROM:-0500
TZOFFSETTO:-0400
TZNAME:EDT
DTSTART:20250309T070000
END:DAYLIGHT
BEGIN:STANDARD
TZOFFSETFROM:-0400
TZOFFSETTO:-0500
TZNAME:EST
DTSTART:20251102T060000
END:STANDARD
END:VTIMEZONE
BEGIN:VEVENT
DTSTART;TZID=America/New_York:20240820T120000
DTEND;TZID=America/New_York:20240820T130000
DTSTAMP:20260425T223537
CREATED:20240811T171257Z
LAST-MODIFIED:20240811T171257Z
UID:8646-1724155200-1724158800@www.uss-elca.org
SUMMARY:God's Love Made Real
DESCRIPTION:Join ELCA Presiding Bishop Elizabeth Eaton for a conversation about God’s Love Made Real. This ELCA movement encourages us to create a world experiencing the difference God’s grace and love in Christ make for all people and creation. \nTuesday\, Aug. 20\, 12 p.m. Eastern time \nRegistration is encouraged\, but not required.\nThis event will take place on Zoom. (Save this link.) \nWhat can I expect?\nBishop Eaton will share why God’s Love Made Real is meaningful to her and the future of the church. The Rev. Kurt F. Kusserow\, bishop of the Southwestern Pennsylvania Synod\, will host the conversation\, and participants will have a chance to ask questions and share stories. \nIs this event for me? \nThis webinar is especially for people who care about the ELCA and live in the Northwestern Pennsylvania; Southwestern Pennsylvania; Allegheny; Lower Susquehanna; Upper Susquehanna; Delaware-Maryland; Metropolitan Washington\, D.C.; or West Virginia-Western Maryland synods. If you don’t live in one of these synods\, stay tuned for an upcoming event in your region. \nCan I watch it later?\nA recording may be available at some point in the future\, but we encourage you to stream the event live on Tuesday\, Aug. 20\, at 12 p.m. Eastern time. \nWhat else do I need to know?\nLearn more about God’s Love Made Real at lovemadereal.elca.org.
URL:https://www.uss-elca.org/event/gods-love-made-real/
CATEGORIES:Events
ATTACH;FMTTYPE=image/png:https://www.uss-elca.org/wp-content/uploads/2024/08/Aug-20-Gods-Love-Made-Real-instagram.png
END:VEVENT
END:VCALENDAR