BEGIN:VCALENDAR
VERSION:2.0
PRODID:-//Upper Susquehanna Synod - ECPv6.15.20//NONSGML v1.0//EN
CALSCALE:GREGORIAN
METHOD:PUBLISH
X-WR-CALNAME:Upper Susquehanna Synod
X-ORIGINAL-URL:https://www.uss-elca.org
X-WR-CALDESC:Events for Upper Susquehanna Synod
REFRESH-INTERVAL;VALUE=DURATION:PT1H
X-Robots-Tag:noindex
X-PUBLISHED-TTL:PT1H
BEGIN:VTIMEZONE
TZID:America/New_York
BEGIN:DAYLIGHT
TZOFFSETFROM:-0500
TZOFFSETTO:-0400
TZNAME:EDT
DTSTART:20230312T070000
END:DAYLIGHT
BEGIN:STANDARD
TZOFFSETFROM:-0400
TZOFFSETTO:-0500
TZNAME:EST
DTSTART:20231105T060000
END:STANDARD
BEGIN:DAYLIGHT
TZOFFSETFROM:-0500
TZOFFSETTO:-0400
TZNAME:EDT
DTSTART:20240310T070000
END:DAYLIGHT
BEGIN:STANDARD
TZOFFSETFROM:-0400
TZOFFSETTO:-0500
TZNAME:EST
DTSTART:20241103T060000
END:STANDARD
BEGIN:DAYLIGHT
TZOFFSETFROM:-0500
TZOFFSETTO:-0400
TZNAME:EDT
DTSTART:20250309T070000
END:DAYLIGHT
BEGIN:STANDARD
TZOFFSETFROM:-0400
TZOFFSETTO:-0500
TZNAME:EST
DTSTART:20251102T060000
END:STANDARD
END:VTIMEZONE
BEGIN:VEVENT
DTSTART;TZID=America/New_York:20240907T090000
DTEND;TZID=America/New_York:20240907T120000
DTSTAMP:20260425T201148
CREATED:20240818T180814Z
LAST-MODIFIED:20240818T180814Z
UID:8676-1725699600-1725710400@www.uss-elca.org
SUMMARY:Holy Communion Refresher for ALWLs
DESCRIPTION:On Saturday\, September 7\, 2024\, from 9:00 a.m. – 12 noon\, Bishop Miller will present a practicum to include a refresher about presiding over Holy Communion as well as some other worship topics.  This event is being offered to all Lay Worship Leaders and is scheduled to be held at the Synod Office\, 100 Mahoning Street\, Milton.  There is no charge for the event\, and you can earn continuing education hours for participating. In order to adequately plan for the activity\, we will need a headcount.  If you plan to attend this event\, please contact Brenda at the Synod Office to pre-register.
URL:https://www.uss-elca.org/event/holy-communion-refresher-for-alwls/
LOCATION:Upper Susquehanna Synod Office\, 100 Mahoning St\, Milton\, 17847\, United States
ATTACH;FMTTYPE=image/png:https://www.uss-elca.org/wp-content/uploads/2024/08/Holy-Communion-Refresher-for-ALWLs.png
END:VEVENT
END:VCALENDAR