BEGIN:VCALENDAR
VERSION:2.0
PRODID:-//Upper Susquehanna Synod - ECPv6.15.20//NONSGML v1.0//EN
CALSCALE:GREGORIAN
METHOD:PUBLISH
X-ORIGINAL-URL:https://www.uss-elca.org
X-WR-CALDESC:Events for Upper Susquehanna Synod
REFRESH-INTERVAL;VALUE=DURATION:PT1H
X-Robots-Tag:noindex
X-PUBLISHED-TTL:PT1H
BEGIN:VTIMEZONE
TZID:America/New_York
BEGIN:DAYLIGHT
TZOFFSETFROM:-0500
TZOFFSETTO:-0400
TZNAME:EDT
DTSTART:20230312T070000
END:DAYLIGHT
BEGIN:STANDARD
TZOFFSETFROM:-0400
TZOFFSETTO:-0500
TZNAME:EST
DTSTART:20231105T060000
END:STANDARD
BEGIN:DAYLIGHT
TZOFFSETFROM:-0500
TZOFFSETTO:-0400
TZNAME:EDT
DTSTART:20240310T070000
END:DAYLIGHT
BEGIN:STANDARD
TZOFFSETFROM:-0400
TZOFFSETTO:-0500
TZNAME:EST
DTSTART:20241103T060000
END:STANDARD
BEGIN:DAYLIGHT
TZOFFSETFROM:-0500
TZOFFSETTO:-0400
TZNAME:EDT
DTSTART:20250309T070000
END:DAYLIGHT
BEGIN:STANDARD
TZOFFSETFROM:-0400
TZOFFSETTO:-0500
TZNAME:EST
DTSTART:20251102T060000
END:STANDARD
END:VTIMEZONE
BEGIN:VEVENT
DTSTART;TZID=America/New_York:20240915T160000
DTEND;TZID=America/New_York:20240915T180000
DTSTAMP:20260425T201158
CREATED:20240823T160053Z
LAST-MODIFIED:20240823T160053Z
UID:8687-1726416000-1726423200@www.uss-elca.org
SUMMARY:Discernment Event
DESCRIPTION:Have you ever wondered about theological education? The ELCA seminaries would like to help you learn more about your seminary options and explore with you where God might be calling you next. Join all seven seminaries of the ELCA on Sunday\, September 15th from 4:00-6:30 for a Joint Virtual Discernment Event. For more: admissions.callutheran.edu/register/jointdiscernment
URL:https://www.uss-elca.org/event/discernment-event/
ATTACH;FMTTYPE=image/png:https://www.uss-elca.org/wp-content/uploads/2024/08/4ed8ef7c-434e-c39a-bedf-95a16358f5f2.png
END:VEVENT
END:VCALENDAR