BEGIN:VCALENDAR
VERSION:2.0
PRODID:-//Upper Susquehanna Synod - ECPv6.15.20//NONSGML v1.0//EN
CALSCALE:GREGORIAN
METHOD:PUBLISH
X-WR-CALNAME:Upper Susquehanna Synod
X-ORIGINAL-URL:https://www.uss-elca.org
X-WR-CALDESC:Events for Upper Susquehanna Synod
REFRESH-INTERVAL;VALUE=DURATION:PT1H
X-Robots-Tag:noindex
X-PUBLISHED-TTL:PT1H
BEGIN:VTIMEZONE
TZID:America/New_York
BEGIN:DAYLIGHT
TZOFFSETFROM:-0500
TZOFFSETTO:-0400
TZNAME:EDT
DTSTART:20230312T070000
END:DAYLIGHT
BEGIN:STANDARD
TZOFFSETFROM:-0400
TZOFFSETTO:-0500
TZNAME:EST
DTSTART:20231105T060000
END:STANDARD
BEGIN:DAYLIGHT
TZOFFSETFROM:-0500
TZOFFSETTO:-0400
TZNAME:EDT
DTSTART:20240310T070000
END:DAYLIGHT
BEGIN:STANDARD
TZOFFSETFROM:-0400
TZOFFSETTO:-0500
TZNAME:EST
DTSTART:20241103T060000
END:STANDARD
BEGIN:DAYLIGHT
TZOFFSETFROM:-0500
TZOFFSETTO:-0400
TZNAME:EDT
DTSTART:20250309T070000
END:DAYLIGHT
BEGIN:STANDARD
TZOFFSETFROM:-0400
TZOFFSETTO:-0500
TZNAME:EST
DTSTART:20251102T060000
END:STANDARD
END:VTIMEZONE
BEGIN:VEVENT
DTSTART;TZID=America/New_York:20240922T150000
DTEND;TZID=America/New_York:20240922T170000
DTSTAMP:20260425T201147
CREATED:20240811T171032Z
LAST-MODIFIED:20240811T171032Z
UID:8643-1727017200-1727024400@www.uss-elca.org
SUMMARY:Synod Youth: Game Night
DESCRIPTION:The synod’s Youth Ministry Initiative\, led by youth from around the synod\, kicks off with monthly events in September. The first event will be a game night at Christ’s Lutheran Church\, Lewisburg\, on Sunday\, September 22\, 2024\, from 3-5 p.m. You are invited to bring your own game and enjoy some fellowship and refreshments. \nOther events scheduled for fall include: \nOctober 20- Murder Mystery from 2-5 p.m. at St. Matthew’s Lutheran Church\, Shamokin Dam \nNovember 17- A Ping Pong Tournament (time and place TBA) \nDecember 15- Advent Holy Hike and Christmas Party from 2-5 p.m. at Camp Mount Luther
URL:https://www.uss-elca.org/event/synod-youth-game-night/
LOCATION:Christ’s Lutheran Church\, Lewisburg\, 100 S. Third St\, Lewisburg\, PA\, 17837\, United States
CATEGORIES:Events
ATTACH;FMTTYPE=image/png:https://www.uss-elca.org/wp-content/uploads/2024/08/Screenshot-2024-08-10-at-18-04-42-USS-Youth-Ministry-@uss.youth-•-Instagram-photos-and-videos.png
END:VEVENT
END:VCALENDAR