BEGIN:VCALENDAR
VERSION:2.0
PRODID:-//Upper Susquehanna Synod - ECPv6.15.20//NONSGML v1.0//EN
CALSCALE:GREGORIAN
METHOD:PUBLISH
X-WR-CALNAME:Upper Susquehanna Synod
X-ORIGINAL-URL:https://www.uss-elca.org
X-WR-CALDESC:Events for Upper Susquehanna Synod
REFRESH-INTERVAL;VALUE=DURATION:PT1H
X-Robots-Tag:noindex
X-PUBLISHED-TTL:PT1H
BEGIN:VTIMEZONE
TZID:America/New_York
BEGIN:DAYLIGHT
TZOFFSETFROM:-0500
TZOFFSETTO:-0400
TZNAME:EDT
DTSTART:20230312T070000
END:DAYLIGHT
BEGIN:STANDARD
TZOFFSETFROM:-0400
TZOFFSETTO:-0500
TZNAME:EST
DTSTART:20231105T060000
END:STANDARD
BEGIN:DAYLIGHT
TZOFFSETFROM:-0500
TZOFFSETTO:-0400
TZNAME:EDT
DTSTART:20240310T070000
END:DAYLIGHT
BEGIN:STANDARD
TZOFFSETFROM:-0400
TZOFFSETTO:-0500
TZNAME:EST
DTSTART:20241103T060000
END:STANDARD
BEGIN:DAYLIGHT
TZOFFSETFROM:-0500
TZOFFSETTO:-0400
TZNAME:EDT
DTSTART:20250309T070000
END:DAYLIGHT
BEGIN:STANDARD
TZOFFSETFROM:-0400
TZOFFSETTO:-0500
TZNAME:EST
DTSTART:20251102T060000
END:STANDARD
END:VTIMEZONE
BEGIN:VEVENT
DTSTART;TZID=America/New_York:20241103T143000
DTEND;TZID=America/New_York:20241103T160000
DTSTAMP:20260425T173657
CREATED:20240926T214121Z
LAST-MODIFIED:20240926T215119Z
UID:8820-1730644200-1730649600@www.uss-elca.org
SUMMARY:Fall Frisbee Fun Day
DESCRIPTION:Fall Frisbee Fun Day! Ready to enjoy a fall day outdoors and get some exercise? Everyone is invited to come to Camp Mount Luther on Sunday\, November 3\, 2024\, at 2:30 p.m. to play a round of disc golf. Please meet us at the A-Center. There is no need to sign up. Just show up ready to play!
URL:https://www.uss-elca.org/event/fall-frisbee-fun-day/
LOCATION:Camp Mount Luther\, 355 Mt. Luther Lane\, Mifflinburg\, PA\, 17844\, United States
ATTACH;FMTTYPE=image/png:https://www.uss-elca.org/wp-content/uploads/2024/09/Fall-Frisbee-Funday1.png
END:VEVENT
END:VCALENDAR