BEGIN:VCALENDAR
VERSION:2.0
PRODID:-//Upper Susquehanna Synod - ECPv6.15.20//NONSGML v1.0//EN
CALSCALE:GREGORIAN
METHOD:PUBLISH
X-ORIGINAL-URL:https://www.uss-elca.org
X-WR-CALDESC:Events for Upper Susquehanna Synod
REFRESH-INTERVAL;VALUE=DURATION:PT1H
X-Robots-Tag:noindex
X-PUBLISHED-TTL:PT1H
BEGIN:VTIMEZONE
TZID:America/New_York
BEGIN:DAYLIGHT
TZOFFSETFROM:-0500
TZOFFSETTO:-0400
TZNAME:EDT
DTSTART:20230312T070000
END:DAYLIGHT
BEGIN:STANDARD
TZOFFSETFROM:-0400
TZOFFSETTO:-0500
TZNAME:EST
DTSTART:20231105T060000
END:STANDARD
BEGIN:DAYLIGHT
TZOFFSETFROM:-0500
TZOFFSETTO:-0400
TZNAME:EDT
DTSTART:20240310T070000
END:DAYLIGHT
BEGIN:STANDARD
TZOFFSETFROM:-0400
TZOFFSETTO:-0500
TZNAME:EST
DTSTART:20241103T060000
END:STANDARD
BEGIN:DAYLIGHT
TZOFFSETFROM:-0500
TZOFFSETTO:-0400
TZNAME:EDT
DTSTART:20250309T070000
END:DAYLIGHT
BEGIN:STANDARD
TZOFFSETFROM:-0400
TZOFFSETTO:-0500
TZNAME:EST
DTSTART:20251102T060000
END:STANDARD
END:VTIMEZONE
BEGIN:VEVENT
DTSTART;TZID=America/New_York:20241109T090000
DTEND;TZID=America/New_York:20241109T163000
DTSTAMP:20260425T185402
CREATED:20240928T214212Z
LAST-MODIFIED:20240928T214212Z
UID:8824-1731142800-1731169800@www.uss-elca.org
SUMMARY:Good Shepherd Discipleship Day
DESCRIPTION:Join Good Shepherd\, Berwick for a transformative day of discipleship as we explore the call to follow Jesus. Through engaging sessions\, inspiring teachings\, and meaningful discussions\, we will deepen our understanding of what it means to be a disciple and how to share that journey with others. Grounded in Scripture\, our time together will equip you with practical tools and strategies to live out your faith authentically and impactfully in your community. Whether you’re just beginning your journey or seeking to deepen your commitment\, this retreat offers a supportive environment for growth\, connection\, and empowerment. Sign up today to reserve your seat because space is limited! \nREGISTRATION AND OTHER INFO\nTo sign up\, simply click this link and fill it out! https://forms.gle/ie5dEESG1cQDBgzY7 \nThe event will be from 9 a.m.-4:30 p.m. on November 9 at Good Shepherd Lutheran Church – Berwick\, PA (address below). Sign up now to reserve your seat because space is limited! \nGood Shepherd Lutheran Church\n1600 Fowler Avenue\nBerwick\, PA 18603 \nThe only cost is sacrificing a day of watching college football to grow in discipleship! A free-will offering will be collected to off-set the cost of the day.
URL:https://www.uss-elca.org/event/good-shepherd-discipleship-day/
LOCATION:Good Shepherd Lutheran Church\, 1600 Fowler Ave\, Berwick\, PA\, 18603\, United States
ATTACH;FMTTYPE=image/png:https://www.uss-elca.org/wp-content/uploads/2024/09/Good-Shepherd.png
END:VEVENT
BEGIN:VEVENT
DTSTART;TZID=America/New_York:20241109T093000
DTEND;TZID=America/New_York:20241109T130000
DTSTAMP:20260425T185402
CREATED:20241003T193956Z
LAST-MODIFIED:20241003T193956Z
UID:8842-1731144600-1731157200@www.uss-elca.org
SUMMARY:Synod Council Meeting
DESCRIPTION:Location: Trinity\, McAlisterville
URL:https://www.uss-elca.org/event/synod-council-meeting/
ATTACH;FMTTYPE=image/png:https://www.uss-elca.org/wp-content/uploads/2024/10/Upper-Susquehanna-Synod.png
END:VEVENT
END:VCALENDAR