BEGIN:VCALENDAR
VERSION:2.0
PRODID:-//Upper Susquehanna Synod - ECPv6.15.20//NONSGML v1.0//EN
CALSCALE:GREGORIAN
METHOD:PUBLISH
X-WR-CALNAME:Upper Susquehanna Synod
X-ORIGINAL-URL:https://www.uss-elca.org
X-WR-CALDESC:Events for Upper Susquehanna Synod
REFRESH-INTERVAL;VALUE=DURATION:PT1H
X-Robots-Tag:noindex
X-PUBLISHED-TTL:PT1H
BEGIN:VTIMEZONE
TZID:America/New_York
BEGIN:DAYLIGHT
TZOFFSETFROM:-0500
TZOFFSETTO:-0400
TZNAME:EDT
DTSTART:20230312T070000
END:DAYLIGHT
BEGIN:STANDARD
TZOFFSETFROM:-0400
TZOFFSETTO:-0500
TZNAME:EST
DTSTART:20231105T060000
END:STANDARD
BEGIN:DAYLIGHT
TZOFFSETFROM:-0500
TZOFFSETTO:-0400
TZNAME:EDT
DTSTART:20240310T070000
END:DAYLIGHT
BEGIN:STANDARD
TZOFFSETFROM:-0400
TZOFFSETTO:-0500
TZNAME:EST
DTSTART:20241103T060000
END:STANDARD
BEGIN:DAYLIGHT
TZOFFSETFROM:-0500
TZOFFSETTO:-0400
TZNAME:EDT
DTSTART:20250309T070000
END:DAYLIGHT
BEGIN:STANDARD
TZOFFSETFROM:-0400
TZOFFSETTO:-0500
TZNAME:EST
DTSTART:20251102T060000
END:STANDARD
END:VTIMEZONE
BEGIN:VEVENT
DTSTART;TZID=America/New_York:20241212T090000
DTEND;TZID=America/New_York:20241212T150000
DTSTAMP:20260425T161252
CREATED:20241026T123859Z
LAST-MODIFIED:20241203T154056Z
UID:8912-1733994000-1734015600@www.uss-elca.org
SUMMARY:Bishop's Day
DESCRIPTION:Bishop Miller invites Rostered and Lay leaders of the synod to the next Bishop’s Day\, 9:00 a.m. – 3:00 p.m.\, December 12\, 2024\, at the synod office\, 100 Mahoning Street\, Milton*. Pastor Scott Kershner will present the Intercultural Development Inventory and lead us through the survey process. The Intercultural Development Inventory (IDI) is a widely used and effective cross-culturally valid assessment for building cultural competence. It is equally valuable for learning how to better navigate the polarized cultural and political climate\, especially in our churches. The IDI is broadly about cultural and worldview difference and how we navigate that effectively.\n \nParticipants will receive a link to complete the IDI survey and be invited to hear the results at a follow-up session on February 20\, 2025. Cost for the two days is $25 per person**\, payable to the Upper Susquehanna Synod and includes lunch: Please register with Brenda Krouse (brenda@uss-elca.org) by December 6. Payment in advance is appreciated. \nIN ADDITION: Those who wish to remain for the afternoon will be invited to join in a time of conversation with the bishop. Possible topics include the state of the synod\, responding to the election\, changes to the Lay Worship Leaders program\, Go Tell It IN The Mountains (the compelling preaching initiative of the Allegheny\, Northwest PA\, and Upper Susquehanna Synods). \n*This opportunity fulfills the expectations for Rostered Leaders and Authorized Lay Leaders to complete training in anti-racism. \n**For those who previously took the IDI Survey with Pastor Kershner\, attendance at either day is free. You need not take the survey again. \nBishop’s Days take place approximately every other month and provide synod leaders opportunities to engage with the Bishop and collegiality in rest\, renewal\, and re-creation. Ideas are welcome for future Bishop’s Days and may be sent to the bishop or Chad Hershberger.
URL:https://www.uss-elca.org/event/bishops-day-2/
LOCATION:Upper Susquehanna Synod Office\, 100 Mahoning St\, Milton\, 17847\, United States
ATTACH;FMTTYPE=image/png:https://www.uss-elca.org/wp-content/uploads/2024/10/2dd7d8af-adc3-9b83-ea6f-a265e2e2d365.png
END:VEVENT
END:VCALENDAR