BEGIN:VCALENDAR
VERSION:2.0
PRODID:-//Upper Susquehanna Synod - ECPv6.15.20//NONSGML v1.0//EN
CALSCALE:GREGORIAN
METHOD:PUBLISH
X-WR-CALNAME:Upper Susquehanna Synod
X-ORIGINAL-URL:https://www.uss-elca.org
X-WR-CALDESC:Events for Upper Susquehanna Synod
REFRESH-INTERVAL;VALUE=DURATION:PT1H
X-Robots-Tag:noindex
X-PUBLISHED-TTL:PT1H
BEGIN:VTIMEZONE
TZID:America/New_York
BEGIN:DAYLIGHT
TZOFFSETFROM:-0500
TZOFFSETTO:-0400
TZNAME:EDT
DTSTART:20240310T070000
END:DAYLIGHT
BEGIN:STANDARD
TZOFFSETFROM:-0400
TZOFFSETTO:-0500
TZNAME:EST
DTSTART:20241103T060000
END:STANDARD
BEGIN:DAYLIGHT
TZOFFSETFROM:-0500
TZOFFSETTO:-0400
TZNAME:EDT
DTSTART:20250309T070000
END:DAYLIGHT
BEGIN:STANDARD
TZOFFSETFROM:-0400
TZOFFSETTO:-0500
TZNAME:EST
DTSTART:20251102T060000
END:STANDARD
BEGIN:DAYLIGHT
TZOFFSETFROM:-0500
TZOFFSETTO:-0400
TZNAME:EDT
DTSTART:20260308T070000
END:DAYLIGHT
BEGIN:STANDARD
TZOFFSETFROM:-0400
TZOFFSETTO:-0500
TZNAME:EST
DTSTART:20261101T060000
END:STANDARD
END:VTIMEZONE
BEGIN:VEVENT
DTSTART;VALUE=DATE:20250220
DTEND;VALUE=DATE:20250221
DTSTAMP:20260425T122930
CREATED:20241209T203323Z
LAST-MODIFIED:20241209T203323Z
UID:9023-1740009600-1740095999@www.uss-elca.org
SUMMARY:Bishop's Day
DESCRIPTION:Bishop Miller invites Rostered and Lay leaders of the synod to Bishop’s Day\, 9:00 a.m. – 3:00 p.m.\, February 20\, 2025\, at the synod office\, 100 Mahoning Street\, Milton*. Pastor Scott Kershner will present the second part of the Intercultural Development Inventory. The Intercultural Development Inventory (IDI) is a widely used and effective cross-culturally valid assessment for building cultural competence. It is equally valuable for learning how to better navigate the polarized cultural and political climate\, especially in our churches. The IDI is broadly about cultural and worldview difference and how we navigate that effectively. \n*This opportunity fulfills the expectations for Rostered Leaders and Authorized Lay Leaders to complete training in anti-racism.
URL:https://www.uss-elca.org/event/bishops-day/
ATTACH;FMTTYPE=image/png:https://www.uss-elca.org/wp-content/uploads/2024/10/2dd7d8af-adc3-9b83-ea6f-a265e2e2d365.png
END:VEVENT
END:VCALENDAR