BEGIN:VCALENDAR
VERSION:2.0
PRODID:-//Upper Susquehanna Synod - ECPv6.15.20//NONSGML v1.0//EN
CALSCALE:GREGORIAN
METHOD:PUBLISH
X-WR-CALNAME:Upper Susquehanna Synod
X-ORIGINAL-URL:https://www.uss-elca.org
X-WR-CALDESC:Events for Upper Susquehanna Synod
REFRESH-INTERVAL;VALUE=DURATION:PT1H
X-Robots-Tag:noindex
X-PUBLISHED-TTL:PT1H
BEGIN:VTIMEZONE
TZID:America/New_York
BEGIN:DAYLIGHT
TZOFFSETFROM:-0500
TZOFFSETTO:-0400
TZNAME:EDT
DTSTART:20240310T070000
END:DAYLIGHT
BEGIN:STANDARD
TZOFFSETFROM:-0400
TZOFFSETTO:-0500
TZNAME:EST
DTSTART:20241103T060000
END:STANDARD
BEGIN:DAYLIGHT
TZOFFSETFROM:-0500
TZOFFSETTO:-0400
TZNAME:EDT
DTSTART:20250309T070000
END:DAYLIGHT
BEGIN:STANDARD
TZOFFSETFROM:-0400
TZOFFSETTO:-0500
TZNAME:EST
DTSTART:20251102T060000
END:STANDARD
BEGIN:DAYLIGHT
TZOFFSETFROM:-0500
TZOFFSETTO:-0400
TZNAME:EDT
DTSTART:20260308T070000
END:DAYLIGHT
BEGIN:STANDARD
TZOFFSETFROM:-0400
TZOFFSETTO:-0500
TZNAME:EST
DTSTART:20261101T060000
END:STANDARD
END:VTIMEZONE
BEGIN:VEVENT
DTSTART;VALUE=DATE:20250302
DTEND;VALUE=DATE:20250303
DTSTAMP:20260425T111014
CREATED:20250125T190849Z
LAST-MODIFIED:20250125T190849Z
UID:9097-1740873600-1740959999@www.uss-elca.org
SUMMARY:Camp Mount Luther Sunday
DESCRIPTION:Members of the congregations of the Upper Susquehanna Synod of the Evangelical Lutheran Church in America (ELCA) will celebrate outdoor ministries in February. Synod congregations will join to celebrate the annual “Camp Mount Luther Sunday” on March 2\, 2025\, Transfiguration Sunday. The Upper Susquehanna Synod Council designated that day to be “Camp Mount Luther Sunday” to help promote outdoor ministries in the synod. Congregations will uplift the ministries of the camp during their worship services that day. \n\n\nCamp Mount Luther is an extension of the ministry that is done in local congregations. The camp is asking that congregations promote the camp on that Sunday or designate another Sunday this spring to do so. Ways to promote the camp include bulletin inserts to share with congregation members\, Temple Talks\, camper testimonials\, bulletin board displays\, special camp music during Sunday school and church services as well as special offerings being collected. These activities are all expected to be done during worship services across the synod.
URL:https://www.uss-elca.org/event/camp-mount-luther-sunday-4/
ATTACH;FMTTYPE=image/png:https://www.uss-elca.org/wp-content/uploads/2025/01/Jan-27.png
END:VEVENT
END:VCALENDAR