BEGIN:VCALENDAR
VERSION:2.0
PRODID:-//Upper Susquehanna Synod - ECPv6.15.20//NONSGML v1.0//EN
CALSCALE:GREGORIAN
METHOD:PUBLISH
X-WR-CALNAME:Upper Susquehanna Synod
X-ORIGINAL-URL:https://www.uss-elca.org
X-WR-CALDESC:Events for Upper Susquehanna Synod
REFRESH-INTERVAL;VALUE=DURATION:PT1H
X-Robots-Tag:noindex
X-PUBLISHED-TTL:PT1H
BEGIN:VTIMEZONE
TZID:America/New_York
BEGIN:DAYLIGHT
TZOFFSETFROM:-0500
TZOFFSETTO:-0400
TZNAME:EDT
DTSTART:20240310T070000
END:DAYLIGHT
BEGIN:STANDARD
TZOFFSETFROM:-0400
TZOFFSETTO:-0500
TZNAME:EST
DTSTART:20241103T060000
END:STANDARD
BEGIN:DAYLIGHT
TZOFFSETFROM:-0500
TZOFFSETTO:-0400
TZNAME:EDT
DTSTART:20250309T070000
END:DAYLIGHT
BEGIN:STANDARD
TZOFFSETFROM:-0400
TZOFFSETTO:-0500
TZNAME:EST
DTSTART:20251102T060000
END:STANDARD
BEGIN:DAYLIGHT
TZOFFSETFROM:-0500
TZOFFSETTO:-0400
TZNAME:EDT
DTSTART:20260308T070000
END:DAYLIGHT
BEGIN:STANDARD
TZOFFSETFROM:-0400
TZOFFSETTO:-0500
TZNAME:EST
DTSTART:20261101T060000
END:STANDARD
END:VTIMEZONE
BEGIN:VEVENT
DTSTART;TZID=America/New_York:20250308T090000
DTEND;TZID=America/New_York:20250308T120000
DTSTAMP:20260425T110913
CREATED:20250125T192558Z
LAST-MODIFIED:20250201T120356Z
UID:9107-1741424400-1741435200@www.uss-elca.org
SUMMARY:Worship Practicum
DESCRIPTION:Bishop Miller will once again lead a worship practicum on March 8\, 9:00-12:00\, at the synod office\, 100 Mahoning Street\, Milton. This practicum is open to anyone who has interest in planning and carrying out worship\, especially Lay Worship Leaders\, Assisting Ministers\, and Worship Committees. Topics include leadership presence\, elements of worship\, setting up for worship\, understanding and using the altar book\, and more. Please call the synod office and let Brenda know if you plan to attend.
URL:https://www.uss-elca.org/event/worship-practicum/
LOCATION:Upper Susquehanna Synod Office\, 100 Mahoning St\, Milton\, 17847\, United States
ATTACH;FMTTYPE=image/jpeg:https://www.uss-elca.org/wp-content/uploads/2024/09/02-3-Salem.jpg
END:VEVENT
END:VCALENDAR