BEGIN:VCALENDAR
VERSION:2.0
PRODID:-//Upper Susquehanna Synod - ECPv6.15.20//NONSGML v1.0//EN
CALSCALE:GREGORIAN
METHOD:PUBLISH
X-ORIGINAL-URL:https://www.uss-elca.org
X-WR-CALDESC:Events for Upper Susquehanna Synod
REFRESH-INTERVAL;VALUE=DURATION:PT1H
X-Robots-Tag:noindex
X-PUBLISHED-TTL:PT1H
BEGIN:VTIMEZONE
TZID:America/New_York
BEGIN:DAYLIGHT
TZOFFSETFROM:-0500
TZOFFSETTO:-0400
TZNAME:EDT
DTSTART:20240310T070000
END:DAYLIGHT
BEGIN:STANDARD
TZOFFSETFROM:-0400
TZOFFSETTO:-0500
TZNAME:EST
DTSTART:20241103T060000
END:STANDARD
BEGIN:DAYLIGHT
TZOFFSETFROM:-0500
TZOFFSETTO:-0400
TZNAME:EDT
DTSTART:20250309T070000
END:DAYLIGHT
BEGIN:STANDARD
TZOFFSETFROM:-0400
TZOFFSETTO:-0500
TZNAME:EST
DTSTART:20251102T060000
END:STANDARD
BEGIN:DAYLIGHT
TZOFFSETFROM:-0500
TZOFFSETTO:-0400
TZNAME:EDT
DTSTART:20260308T070000
END:DAYLIGHT
BEGIN:STANDARD
TZOFFSETFROM:-0400
TZOFFSETTO:-0500
TZNAME:EST
DTSTART:20261101T060000
END:STANDARD
END:VTIMEZONE
BEGIN:VEVENT
DTSTART;TZID=America/New_York:20250312T180000
DTEND;TZID=America/New_York:20250313T235900
DTSTAMP:20260425T100447
CREATED:20250203T004223Z
LAST-MODIFIED:20250203T004223Z
UID:9111-1741802400-1741910340@www.uss-elca.org
SUMMARY:Raise the Region helps CML
DESCRIPTION:Camp Mount Luther is once again participating in Raise the Region and we need YOUR support! Your donations made through raisetheregion.org will help Camp Mount Luther continue to provide quality spiritual formation\, outdoor adventure\, intentional community\, and leadership development experiences for people of all ages. The more donors and donations we raise the better our chances of receiving incentives\, stretch dollars\, and awards! Please go to raisetheregion.org between March 12 at 6:00 p.m. through March 13 at 11:59 p.m. to make your contribution. Thank you for your generosity! A bulletin insert to promote this is here: https://www.campmountluther.org/wp-content/uploads/2025/02/RAISE-THE-REGION_2025.pdf
URL:https://www.uss-elca.org/event/raise-the-region-helps-cml/
ATTACH;FMTTYPE=image/jpeg:https://www.uss-elca.org/wp-content/uploads/2021/01/LOGO-RTR-2020.jpg
END:VEVENT
END:VCALENDAR