BEGIN:VCALENDAR
VERSION:2.0
PRODID:-//Upper Susquehanna Synod - ECPv6.15.20//NONSGML v1.0//EN
CALSCALE:GREGORIAN
METHOD:PUBLISH
X-WR-CALNAME:Upper Susquehanna Synod
X-ORIGINAL-URL:https://www.uss-elca.org
X-WR-CALDESC:Events for Upper Susquehanna Synod
REFRESH-INTERVAL;VALUE=DURATION:PT1H
X-Robots-Tag:noindex
X-PUBLISHED-TTL:PT1H
BEGIN:VTIMEZONE
TZID:America/New_York
BEGIN:DAYLIGHT
TZOFFSETFROM:-0500
TZOFFSETTO:-0400
TZNAME:EDT
DTSTART:20240310T070000
END:DAYLIGHT
BEGIN:STANDARD
TZOFFSETFROM:-0400
TZOFFSETTO:-0500
TZNAME:EST
DTSTART:20241103T060000
END:STANDARD
BEGIN:DAYLIGHT
TZOFFSETFROM:-0500
TZOFFSETTO:-0400
TZNAME:EDT
DTSTART:20250309T070000
END:DAYLIGHT
BEGIN:STANDARD
TZOFFSETFROM:-0400
TZOFFSETTO:-0500
TZNAME:EST
DTSTART:20251102T060000
END:STANDARD
BEGIN:DAYLIGHT
TZOFFSETFROM:-0500
TZOFFSETTO:-0400
TZNAME:EDT
DTSTART:20260308T070000
END:DAYLIGHT
BEGIN:STANDARD
TZOFFSETFROM:-0400
TZOFFSETTO:-0500
TZNAME:EST
DTSTART:20261101T060000
END:STANDARD
BEGIN:DAYLIGHT
TZOFFSETFROM:-0500
TZOFFSETTO:-0400
TZNAME:EDT
DTSTART:20270314T070000
END:DAYLIGHT
BEGIN:STANDARD
TZOFFSETFROM:-0400
TZOFFSETTO:-0500
TZNAME:EST
DTSTART:20271107T060000
END:STANDARD
END:VTIMEZONE
BEGIN:VEVENT
DTSTART;TZID=America/New_York:20260104T160000
DTEND;TZID=America/New_York:20260104T180000
DTSTAMP:20260425T110524
CREATED:20251004T133412Z
LAST-MODIFIED:20251004T133412Z
UID:9614-1767542400-1767549600@www.uss-elca.org
SUMMARY:Dinner Church (FCML)
DESCRIPTION:Join us at Camp Mount Luther for a time of fellowship\, food\, and faith as part of Mount Luther’s new faith community. Questions? Contact Jim at jim@campmountluther.org
URL:https://www.uss-elca.org/event/dinner-church-fcml-3/
LOCATION:Camp Mount Luther\, 355 Mt. Luther Lane\, Mifflinburg\, PA\, 17844\, United States
ORGANIZER;CN="Chad Hershberger & Jim Vitale":MAILTO:chad@campmountluther.org
END:VEVENT
BEGIN:VEVENT
DTSTART;TZID=America/New_York:20251223T200000
DTEND;TZID=America/New_York:20251223T213000
DTSTAMP:20260425T110525
CREATED:20250913T144056Z
LAST-MODIFIED:20250913T144056Z
UID:9582-1766520000-1766525400@www.uss-elca.org
SUMMARY:Game Night (FCML)
DESCRIPTION:Join us on Discord for a time of fellowship and games as part of Mount Luther’s new faith community. Questions? Contact Jim at jim@campmountluther.org
URL:https://www.uss-elca.org/event/game-night-fcml-4/
ATTACH;FMTTYPE=image/jpeg:https://www.uss-elca.org/wp-content/uploads/2025/09/FCML.jpg
END:VEVENT
BEGIN:VEVENT
DTSTART;VALUE=DATE:20251220
DTEND;VALUE=DATE:20251221
DTSTAMP:20260425T110525
CREATED:20250913T144001Z
LAST-MODIFIED:20250913T144001Z
UID:9580-1766188800-1766275199@www.uss-elca.org
SUMMARY:Service Project (FCML)
DESCRIPTION:Join us for a service project as part of Mount Luther’s new faith community. Questions? Contact Jim at jim@campmountluther.org
URL:https://www.uss-elca.org/event/service-project-fcml-4/
ATTACH;FMTTYPE=image/jpeg:https://www.uss-elca.org/wp-content/uploads/2025/09/FCML.jpg
END:VEVENT
BEGIN:VEVENT
DTSTART;TZID=America/New_York:20251209T200000
DTEND;TZID=America/New_York:20251209T213000
DTSTAMP:20260425T110525
CREATED:20250913T143922Z
LAST-MODIFIED:20250913T143922Z
UID:9578-1765310400-1765315800@www.uss-elca.org
SUMMARY:Fellowship and Faith (FCML)
DESCRIPTION:Join us on Discord for a time of fellowship focused on faith as part of Mount Luther’s new faith community. Questions? Contact Jim at jim@campmountluther.org
URL:https://www.uss-elca.org/event/fellowship-and-faith-fcml/
ATTACH;FMTTYPE=image/jpeg:https://www.uss-elca.org/wp-content/uploads/2025/09/FCML.jpg
END:VEVENT
BEGIN:VEVENT
DTSTART;TZID=America/New_York:20251125T200000
DTEND;TZID=America/New_York:20251125T213000
DTSTAMP:20260425T110525
CREATED:20250913T143839Z
LAST-MODIFIED:20250913T143839Z
UID:9576-1764100800-1764106200@www.uss-elca.org
SUMMARY:Game Night (FCML)
DESCRIPTION:Join us on Discord for a time of fellowship and games as part of Mount Luther’s new faith community. Questions? Contact Jim at jim@campmountluther.org
URL:https://www.uss-elca.org/event/game-night-fcml-3/
ATTACH;FMTTYPE=image/jpeg:https://www.uss-elca.org/wp-content/uploads/2025/09/FCML.jpg
END:VEVENT
BEGIN:VEVENT
DTSTART;TZID=America/New_York:20251117T130000
DTEND;TZID=America/New_York:20251117T140000
DTSTAMP:20260425T110525
CREATED:20250923T182935Z
LAST-MODIFIED:20250923T182935Z
UID:9607-1763384400-1763388000@www.uss-elca.org
SUMMARY:GTIIM Update Meeting
DESCRIPTION:As the Go Tell It IN the Mountains Initiative nears the end of year two or our six-year grant from the Lilly Endowment\, we have set aside time to share updates on this initiative. Two times have been set for you to hear updates\, to share suggestions\, to ask questions\, and to help every congregation and preacher benefit from this blessing. Each meeting will be led by our Director John Kratz\, and each will feature a time for you to get questions answered and for you to learn more about how your pastor\, lay worship leader\, and congregation may benefit from this gift. The options are Sunday November 16th at 6:00pm OR Monday November 17th at 1:00pm. \nThe zoom passcode is 146973
URL:https://www.uss-elca.org/event/gtiim-update-meeting-2/
ATTACH;FMTTYPE=image/png:https://www.uss-elca.org/wp-content/uploads/2024/10/dark-brown.png
END:VEVENT
BEGIN:VEVENT
DTSTART;TZID=America/New_York:20251116T180000
DTEND;TZID=America/New_York:20251116T190000
DTSTAMP:20260425T110525
CREATED:20250923T182813Z
LAST-MODIFIED:20250923T182939Z
UID:9605-1763316000-1763319600@www.uss-elca.org
SUMMARY:GTIIM Update Meeting
DESCRIPTION:As the Go Tell It IN the Mountains Initiative nears the end of year two or our six-year grant from the Lilly Endowment\, we have set aside time to share updates on this initiative. Two times have been set for you to hear updates\, to share suggestions\, to ask questions\, and to help every congregation and preacher benefit from this blessing. Each meeting will be led by our Director John Kratz\, and each will feature a time for you to get questions answered and for you to learn more about how your pastor\, lay worship leader\, and congregation may benefit from this gift. The options are Sunday November 16th at 6:00pm OR Monday November 17th at 1:00pm. \nThe zoom passcode is 146973
URL:https://www.uss-elca.org/event/gtiim-update-meeting/
ATTACH;FMTTYPE=image/png:https://www.uss-elca.org/wp-content/uploads/2024/10/dark-brown.png
END:VEVENT
BEGIN:VEVENT
DTSTART;TZID=America/New_York:20251115T090000
DTEND;TZID=America/New_York:20251115T130000
DTSTAMP:20260425T110525
CREATED:20250913T142557Z
LAST-MODIFIED:20250913T142557Z
UID:9558-1763197200-1763211600@www.uss-elca.org
SUMMARY:Synod Council Meeting
DESCRIPTION:
URL:https://www.uss-elca.org/event/synod-council-meeting-23/
ATTACH;FMTTYPE=image/png:https://www.uss-elca.org/wp-content/uploads/2025/08/Synod-Council-1.png
END:VEVENT
BEGIN:VEVENT
DTSTART;VALUE=DATE:20251115
DTEND;VALUE=DATE:20251116
DTSTAMP:20260425T110525
CREATED:20250911T190825Z
LAST-MODIFIED:20250911T190825Z
UID:9540-1763164800-1763251199@www.uss-elca.org
SUMMARY:Service Project (FCML)
DESCRIPTION:Join us at Camp Mount Luther for a day of service as part of Mount Luther’s new faith community. Questions? Contact Jim at jim@campmountluther.org
URL:https://www.uss-elca.org/event/service-project-fcml/
LOCATION:Camp Mount Luther\, 355 Mt. Luther Lane\, Mifflinburg\, PA\, 17844\, United States
ORGANIZER;CN="Chad Hershberger & Jim Vitale":MAILTO:chad@campmountluther.org
END:VEVENT
BEGIN:VEVENT
DTSTART;TZID=America/New_York:20251112T083000
DTEND;TZID=America/New_York:20251112T150000
DTSTAMP:20260425T110525
CREATED:20250808T172026Z
LAST-MODIFIED:20250808T172026Z
UID:9460-1762936200-1762959600@www.uss-elca.org
SUMMARY:Quarterly Pericope Study
DESCRIPTION:United Lutheran Seminary’s Dr. Allison DeForest will lead Quarterly Pericope Studies on November 12\, February 11\, and May 27 at The Lutheran Home in Hollidaysburg\, from 8:30- 3:00. Cost is $20.00 (payment may be made through registration link or brought to the event). Seating is limited. \nRegister Here
URL:https://www.uss-elca.org/event/quarterly-pericope-study-2/
LOCATION:Lutheran Home\, 916 Hickory St\, Hollidaysburg\, PA\, 16648\, United States
ATTACH;FMTTYPE=image/png:https://www.uss-elca.org/wp-content/uploads/2024/10/dark-brown.png
ORGANIZER;CN="John Kratz":MAILTO:director@alleghenysynod.com
END:VEVENT
BEGIN:VEVENT
DTSTART;TZID=America/New_York:20251111T200000
DTEND;TZID=America/New_York:20251111T213000
DTSTAMP:20260425T110525
CREATED:20250913T143701Z
LAST-MODIFIED:20250913T143701Z
UID:9572-1762891200-1762896600@www.uss-elca.org
SUMMARY:Faith and Fellowship (FCML)
DESCRIPTION:Join us on Discord for a time of fellowship focused on faith as part of Mount Luther’s new faith community. Questions? Contact Jim at jim@campmountluther.org
URL:https://www.uss-elca.org/event/faith-and-fellowship-fcml/
ATTACH;FMTTYPE=image/jpeg:https://www.uss-elca.org/wp-content/uploads/2025/09/FCML.jpg
END:VEVENT
BEGIN:VEVENT
DTSTART;VALUE=DATE:20251108
DTEND;VALUE=DATE:20251109
DTSTAMP:20260425T110525
CREATED:20250525T201445Z
LAST-MODIFIED:20250525T201445Z
UID:9350-1762560000-1762646399@www.uss-elca.org
SUMMARY:Preaching Training
DESCRIPTION:Please save the date of November 8th from 10-11:30 am for a special preaching training event held by Bishop Satterlee. This special Saturday training was intentionally set so that all of our Rostered and Lay Worship Leaders may be able to attend. Full details forthcoming!
URL:https://www.uss-elca.org/event/preaching-training/
ATTACH;FMTTYPE=image/png:https://www.uss-elca.org/wp-content/uploads/2024/10/dark-brown.png
END:VEVENT
BEGIN:VEVENT
DTSTART;TZID=America/New_York:20251107T180000
DTEND;TZID=America/New_York:20251107T200000
DTSTAMP:20260425T110525
CREATED:20251004T214036Z
LAST-MODIFIED:20251004T214036Z
UID:9617-1762538400-1762545600@www.uss-elca.org
SUMMARY:An Evening at Shade Mountain benefits CML
DESCRIPTION:Camp Mount Luther invites you to an Evening at Shade Mountain Winery\, 16140 Route 104\, Middleburg. The event will be held on Friday\, November 7\, 2025\, from 6:00-8:00 p.m. Food served will include heavy appetizers\, desserts\, and a complementary glass of wine. Space is limited and reservations are required. Contact cml@campmountluther.org or call 570-922-1587. Cost is by donation. All proceeds benefit Camp Mount Luther. Camp also receives a portion from all bottles of wine purchased that evening. Promote it! https://www.campmountluther.org/wp-content/uploads/2025/09/2025-Shade-Mountain-Flyer.pdf
URL:https://www.uss-elca.org/event/an-evening-at-shade-mountain-benefits-cml/
LOCATION:Shade Mountain Winery\, 53 D and H Ave\, Danville\, 17821\, United States
ATTACH;FMTTYPE=image/png:https://www.uss-elca.org/wp-content/uploads/2025/10/2025-09-30-12.32.27.png
ORGANIZER;CN="Camp Mount Luther":MAILTO:cml@campmountluther.org
END:VEVENT
BEGIN:VEVENT
DTSTART;VALUE=DATE:20251105
DTEND;VALUE=DATE:20251106
DTSTAMP:20260425T110525
CREATED:20250925T205918Z
LAST-MODIFIED:20250925T210549Z
UID:9610-1762300800-1762387199@www.uss-elca.org
SUMMARY:Seafarer Bag Deadline
DESCRIPTION:Since 2011\, our synod has been providing “Christmas-at-Sea” gift bags to Seafarers and International House (SIH) in New York City. Lutheran port chaplains deliver these to East Coast ship crews during the Advent and Christmas seasons. These hardworking\, lonely freighter crews are responsible for 90 percent of the world’s trade via merchant ships. Gift sacks to fill\, with detailed instructions that must be followed\, are available at the Synod Office. Please bring completed bags into the synod office before November 5\, 2025.
URL:https://www.uss-elca.org/event/seafarer-bag-deadline/
ATTACH;FMTTYPE=image/jpeg:https://www.uss-elca.org/wp-content/uploads/2017/12/SIH-xmasbanner.jpg
END:VEVENT
BEGIN:VEVENT
DTSTART;TZID=America/New_York:20251102T160000
DTEND;TZID=America/New_York:20251102T180000
DTSTAMP:20260425T110525
CREATED:20250911T190642Z
LAST-MODIFIED:20250911T190642Z
UID:9538-1762099200-1762106400@www.uss-elca.org
SUMMARY:Dinner Church (FCML)
DESCRIPTION:Join us at Camp Mount Luther for a time of fellowship\, food\, and faith as part of Mount Luther’s new faith community. Questions? Contact Jim at jim@campmountluther.org
URL:https://www.uss-elca.org/event/dinner-church-fcml-2/
LOCATION:Camp Mount Luther\, 355 Mt. Luther Lane\, Mifflinburg\, PA\, 17844\, United States
ATTACH;FMTTYPE=image/jpeg:https://www.uss-elca.org/wp-content/uploads/2025/09/FCML.jpg
ORGANIZER;CN="Chad Hershberger & Jim Vitale":MAILTO:chad@campmountluther.org
END:VEVENT
BEGIN:VEVENT
DTSTART;TZID=America/New_York:20251028T200000
DTEND;TZID=America/New_York:20251028T213000
DTSTAMP:20260425T110525
CREATED:20250913T143419Z
LAST-MODIFIED:20250913T143419Z
UID:9568-1761681600-1761687000@www.uss-elca.org
SUMMARY:Game Night (FCML)
DESCRIPTION:Join us on Discord for a time of fellowship and games as part of Mount Luther’s new faith community. Questions? Contact Jim at jim@campmountluther.org
URL:https://www.uss-elca.org/event/game-night-fcml-2/
ATTACH;FMTTYPE=image/jpeg:https://www.uss-elca.org/wp-content/uploads/2025/09/FCML.jpg
END:VEVENT
BEGIN:VEVENT
DTSTART;VALUE=DATE:20251027
DTEND;VALUE=DATE:20251101
DTSTAMP:20260425T110525
CREATED:20250825T200844Z
LAST-MODIFIED:20250825T200844Z
UID:9509-1761523200-1761955199@www.uss-elca.org
SUMMARY:SINDR Mission
DESCRIPTION:
URL:https://www.uss-elca.org/event/sindr-mission/
ATTACH;FMTTYPE=image/jpeg:https://www.uss-elca.org/wp-content/uploads/2025/08/Untitled.jpg
END:VEVENT
BEGIN:VEVENT
DTSTART;VALUE=DATE:20251018
DTEND;VALUE=DATE:20251019
DTSTAMP:20260425T110525
CREATED:20250913T143319Z
LAST-MODIFIED:20250913T143319Z
UID:9566-1760745600-1760831999@www.uss-elca.org
SUMMARY:Service Project (FCML)
DESCRIPTION:Join us at Camp Mount Luther for a day of service as part of Mount Luther’s new faith community. Questions? Contact Jim at jim@campmountluther.org
URL:https://www.uss-elca.org/event/service-project-fcml-2/
ATTACH;FMTTYPE=image/jpeg:https://www.uss-elca.org/wp-content/uploads/2025/09/FCML.jpg
END:VEVENT
BEGIN:VEVENT
DTSTART;TZID=America/New_York:20251014T200000
DTEND;TZID=America/New_York:20251014T213000
DTSTAMP:20260425T110525
CREATED:20250911T192106Z
LAST-MODIFIED:20250911T192210Z
UID:9544-1760472000-1760477400@www.uss-elca.org
SUMMARY:Faith and Fellowship (FCML)
DESCRIPTION:Join us on Discord for a time of fellowship focused on faith as part of Mount Luther’s new faith community. Questions? Contact Jim at jim@campmountluther.org
URL:https://www.uss-elca.org/event/9544/
LOCATION:Camp Mount Luther\, 355 Mt. Luther Lane\, Mifflinburg\, PA\, 17844\, United States
ATTACH;FMTTYPE=image/jpeg:https://www.uss-elca.org/wp-content/uploads/2025/09/FCML.jpg
ORGANIZER;CN="Chad Hershberger & Jim Vitale":MAILTO:chad@campmountluther.org
END:VEVENT
BEGIN:VEVENT
DTSTART;TZID=America/New_York:20251012T140000
DTEND;TZID=America/New_York:20251012T160000
DTSTAMP:20260425T110525
CREATED:20250814T183731Z
LAST-MODIFIED:20250814T183731Z
UID:9489-1760277600-1760284800@www.uss-elca.org
SUMMARY:Youth Mystery Night
DESCRIPTION:The synod’s Youth Ministry Initiative\, led by youth from around the synod\, will meet in October for a Murder Mystery! It will be held on October 12\, 2025\, from 2-4 p.m. at St. John’s Lutheran Church\, Northumberland. Youth in grades 6-12 are invited for fun\, fellowship\, and food. Other events scheduled for fall include: \nNovember 9- A Ping Pong Tournament (204 p.m. place TBA) \nDecember 7- Advent Worship and Fellowship from 2-4 p.m. at Camp Mount Luther
URL:https://www.uss-elca.org/event/youth-mystery-night/
LOCATION:St. John’s Lutheran\, Northumberland\, 300 Queen Street\, Northumberland\, 17857\, United States
ATTACH;FMTTYPE=image/png:https://www.uss-elca.org/wp-content/uploads/2024/10/upper-susquehanna-synod-1.png
ORGANIZER;CN="Chad Hershberger & Jim Vitale":MAILTO:chad@campmountluther.org
END:VEVENT
BEGIN:VEVENT
DTSTART;TZID=America/New_York:20251011T083000
DTEND;TZID=America/New_York:20251011T160000
DTSTAMP:20260425T110525
CREATED:20250812T214713Z
LAST-MODIFIED:20250812T214713Z
UID:9480-1760171400-1760198400@www.uss-elca.org
SUMMARY:Sacred Steps\, A Discernment Event
DESCRIPTION:Feel as though God is calling you into something more? Join us for a day of discernment to discover where God might be leading you to live deeper into the Good News of Christ Jesus for the sake of the church and the world. Sacred Steps\, a discernment event\, will take place on October 11\, 2025\, from 8:30 a.m. to 4:00 p.m. at Camp Mount Luther. This event is being sponsored by the Upper Susquehanna Synod Candidacy Committee and Lay Ministry Institute. The day will include a keynote from Rev. Martin Otto Zimmann of United Lutheran Seminary as well as discernment activities\, break out time\, and a discernment panel.  The cost is $25 and includes lunch and a book. Pre-register by contacting the Synod Office at (570) 524-9778 by 9/26/25.
URL:https://www.uss-elca.org/event/sacred-steps-a-discernment-event/
LOCATION:Camp Mount Luther\, 355 Mt. Luther Lane\, Mifflinburg\, PA\, 17844\, United States
CATEGORIES:Events
ATTACH;FMTTYPE=image/png:https://www.uss-elca.org/wp-content/uploads/2025/08/Discernment-Event-Flyer-scaled.png
ORGANIZER;CN="Karla Leiby":MAILTO:prkarla@uss-elca.org
END:VEVENT
BEGIN:VEVENT
DTSTART;TZID=America/New_York:20251005T160000
DTEND;TZID=America/New_York:20251005T180000
DTSTAMP:20260425T110525
CREATED:20250911T190159Z
LAST-MODIFIED:20250911T190330Z
UID:9535-1759680000-1759687200@www.uss-elca.org
SUMMARY:Dinner Church (FCML)
DESCRIPTION:Join us at Camp Mount Luther for a time of fellowship\, food\, and faith as part of Mount Luther’s new faith community. Questions? Contact Jim at jim@campmountluther.org
URL:https://www.uss-elca.org/event/dinner-church-fcml/
LOCATION:Camp Mount Luther\, 355 Mt. Luther Lane\, Mifflinburg\, PA\, 17844\, United States
ATTACH;FMTTYPE=image/jpeg:https://www.uss-elca.org/wp-content/uploads/2025/09/FCML.jpg
ORGANIZER;CN="Chad Hershberger & Jim Vitale":MAILTO:chad@campmountluther.org
END:VEVENT
BEGIN:VEVENT
DTSTART;VALUE=DATE:20251002
DTEND;VALUE=DATE:20251003
DTSTAMP:20260425T110525
CREATED:20250814T182944Z
LAST-MODIFIED:20250828T184311Z
UID:9486-1759363200-1759449599@www.uss-elca.org
SUMMARY:Bishop's Day
DESCRIPTION:Bishop Miller invites rostered and lay leaders of the synod to the next Bishop’s Day on October 2\, 2025\, at St. John’s\, Northumberland. Dr. Angela Zimmann\, Vice President for Institutional Advancement at Wilson College will present on preaching in our divided climate. This will be a continuing education event for rostered and lay leaders. \nSign up here: https://campmountluther.campbrainregistration.com/ \n\nTentative Schedule \n9:15 a.m.- Opening prayer \nMorning- Presentation by Dr. Zimmann \nLunch \nService of Holy Communion (or Service of the Word) with Dr. Zimmann preaching \nConversation with the bishop \n3:00 p.m.- Dismissal \n\nBishop’s Days provide synod leaders opportunities to engage with the bishop and enjoy collegiality in rest\, renewal\, and re-creation. If you are interested in helping with Bishop’s Days in the future (like planning worship)\, be in touch with chad@campmountluther.org. Bishop’s Days for 2025 are planned for December 11. \n  \n 
URL:https://www.uss-elca.org/event/bishops-day-4/
ATTACH;FMTTYPE=image/png:https://www.uss-elca.org/wp-content/uploads/2024/10/2dd7d8af-adc3-9b83-ea6f-a265e2e2d365.png
ORGANIZER;CN="Chad Hershberger & Jim Vitale":MAILTO:chad@campmountluther.org
END:VEVENT
BEGIN:VEVENT
DTSTART;TZID=America/New_York:20250923T080000
DTEND;TZID=America/New_York:20250923T213000
DTSTAMP:20260425T110525
CREATED:20250911T191114Z
LAST-MODIFIED:20250911T191832Z
UID:9542-1758614400-1758663000@www.uss-elca.org
SUMMARY:Game Night (FCML)
DESCRIPTION:Join us on Discord for fellowship and games as part of Mount Luther’s new faith community. Questions? Contact Jim at jim@campmountluther.org
URL:https://www.uss-elca.org/event/game-night-fcml/
LOCATION:Camp Mount Luther\, 355 Mt. Luther Lane\, Mifflinburg\, PA\, 17844\, United States
ATTACH;FMTTYPE=image/jpeg:https://www.uss-elca.org/wp-content/uploads/2025/09/FCML.jpg
ORGANIZER;CN="Chad Hershberger & Jim Vitale":MAILTO:chad@campmountluther.org
END:VEVENT
BEGIN:VEVENT
DTSTART;VALUE=DATE:20250922
DTEND;VALUE=DATE:20250927
DTSTAMP:20260425T110525
CREATED:20250825T200731Z
LAST-MODIFIED:20250825T200731Z
UID:9506-1758499200-1758931199@www.uss-elca.org
SUMMARY:SINDR Mission Trip
DESCRIPTION:
URL:https://www.uss-elca.org/event/sindr-mission-trip/
CATEGORIES:Events
ATTACH;FMTTYPE=image/jpeg:https://www.uss-elca.org/wp-content/uploads/2025/08/Untitled.jpg
END:VEVENT
BEGIN:VEVENT
DTSTART;TZID=America/New_York:20250914T140000
DTEND;TZID=America/New_York:20250914T160000
DTSTAMP:20260425T110525
CREATED:20250808T180138Z
LAST-MODIFIED:20250808T180138Z
UID:9471-1757858400-1757865600@www.uss-elca.org
SUMMARY:Synod Youth Game Night
DESCRIPTION:The synod’s Youth Ministry Initiative\, led by youth from around the synod\, kicks off the new school year with monthly events. The first event will be a game night at Christ’s Lutheran Church\, Lewisburg\, on Sunday\, September 14\, 2025\, from 2-4 p.m. You are invited to bring your own game and enjoy some fellowship and refreshments. \nOther events scheduled for fall include: \nOctober 12- Murder Mystery from 2-4 p.m. at St. John’s Lutheran Church\, Northumberland \nNovember 9- A Ping Pong Tournament (204 p.m. place TBA) \nDecember 7- Advent Worship and Fellowship from 2-4 p.m. at Camp Mount Luther
URL:https://www.uss-elca.org/event/synod-youth-game-night-2/
LOCATION:Christ’s Lutheran Church\, Lewisburg\, 100 S. Third St\, Lewisburg\, PA\, 17837\, United States
ATTACH;FMTTYPE=image/png:https://www.uss-elca.org/wp-content/uploads/2025/08/09-Game-Night-2025-1.png
END:VEVENT
BEGIN:VEVENT
DTSTART;TZID=America/New_York:20250913T093000
DTEND;TZID=America/New_York:20250913T133000
DTSTAMP:20260425T110525
CREATED:20250814T181326Z
LAST-MODIFIED:20250908T225108Z
UID:9484-1757755800-1757770200@www.uss-elca.org
SUMMARY:Synod Council Meeting
DESCRIPTION:
URL:https://www.uss-elca.org/event/synod-council-meeting-22/
ATTACH;FMTTYPE=image/png:https://www.uss-elca.org/wp-content/uploads/2025/08/Synod-Council-1.png
END:VEVENT
BEGIN:VEVENT
DTSTART;TZID=America/New_York:20250913T080000
DTEND;TZID=America/New_York:20250913T170000
DTSTAMP:20260425T110525
CREATED:20250913T143741Z
LAST-MODIFIED:20250913T143741Z
UID:9574-1757750400-1757782800@www.uss-elca.org
SUMMARY:Service Project (FCML)
DESCRIPTION:Join us for a service project as part of Mount Luther’s new faith community. Questions? Contact Jim at jim@campmountluther.org
URL:https://www.uss-elca.org/event/service-project-fcml-3/
ATTACH;FMTTYPE=image/jpeg:https://www.uss-elca.org/wp-content/uploads/2025/09/FCML.jpg
END:VEVENT
BEGIN:VEVENT
DTSTART;VALUE=DATE:20250907
DTEND;VALUE=DATE:20250908
DTSTAMP:20260425T110525
CREATED:20250227T225917Z
LAST-MODIFIED:20250718T235036Z
UID:9152-1757203200-1757289599@www.uss-elca.org
SUMMARY:"God's work. Our hands." Day of Service
DESCRIPTION:On Sunday\, Sept. 7\, congregations of the ELCA will join together for the annual day of service\, “God’s work. Our hands.” As you explore opportunities to participate in your community\, explore new resources to plan and promote your day: This year we are especially mindful of the challenges faced by our Lutheran social service organizations and other faith-based and human service organizations due to the reduction in federal funding. We encourage you to consider service opportunities with these agencies as you begin to make your plans. Check ELCA.org/DayOfService for resources. \nThis flyer was created by the ELCA Evangelism Networked leaders “in hopes that we can share it across the church as a resource for God’s Work our Hands\, so that the event also has a time for sharing Jesus!”
URL:https://www.uss-elca.org/event/gods-work-our-hands-day-of-service-2/
ATTACH;FMTTYPE=image/jpeg:https://www.uss-elca.org/wp-content/uploads/2025/02/1f87b681-b6a8-86c8-c35f-b838751becbf.jpg
END:VEVENT
BEGIN:VEVENT
DTSTART;TZID=America/New_York:20250830T090000
DTEND;TZID=America/New_York:20250830T233000
DTSTAMP:20260425T110525
CREATED:20250808T172626Z
LAST-MODIFIED:20250808T172626Z
UID:9467-1756544400-1756596600@www.uss-elca.org
SUMMARY:CML Dandelion Run
DESCRIPTION:Camp Mount Luther is hosting a benefit 5K and 10K entry-level trail run race\, “The Dandelion Run\,” on Saturday\, August 30\, 2025. The race starts at 9:00 a.m. with “day of” registration beginning at 7:30 a.m. Cost is $35. Register by midnight\, August 10\, to receive a T-shirt. \nRegister Here
URL:https://www.uss-elca.org/event/cml-dandelion-run-3/
LOCATION:Camp Mount Luther\, 355 Mt. Luther Lane\, Mifflinburg\, PA\, 17844\, United States
ATTACH;FMTTYPE=image/png:https://www.uss-elca.org/wp-content/uploads/2025/05/510k.png
ORGANIZER;CN="Camp Mount Luther":MAILTO:cml@campmountluther.org
END:VEVENT
END:VCALENDAR