BEGIN:VCALENDAR
VERSION:2.0
PRODID:-//Upper Susquehanna Synod - ECPv6.15.20//NONSGML v1.0//EN
CALSCALE:GREGORIAN
METHOD:PUBLISH
X-ORIGINAL-URL:https://www.uss-elca.org
X-WR-CALDESC:Events for Upper Susquehanna Synod
REFRESH-INTERVAL;VALUE=DURATION:PT1H
X-Robots-Tag:noindex
X-PUBLISHED-TTL:PT1H
BEGIN:VTIMEZONE
TZID:America/New_York
BEGIN:DAYLIGHT
TZOFFSETFROM:-0500
TZOFFSETTO:-0400
TZNAME:EDT
DTSTART:20250309T070000
END:DAYLIGHT
BEGIN:STANDARD
TZOFFSETFROM:-0400
TZOFFSETTO:-0500
TZNAME:EST
DTSTART:20251102T060000
END:STANDARD
BEGIN:DAYLIGHT
TZOFFSETFROM:-0500
TZOFFSETTO:-0400
TZNAME:EDT
DTSTART:20260308T070000
END:DAYLIGHT
BEGIN:STANDARD
TZOFFSETFROM:-0400
TZOFFSETTO:-0500
TZNAME:EST
DTSTART:20261101T060000
END:STANDARD
BEGIN:DAYLIGHT
TZOFFSETFROM:-0500
TZOFFSETTO:-0400
TZNAME:EDT
DTSTART:20270314T070000
END:DAYLIGHT
BEGIN:STANDARD
TZOFFSETFROM:-0400
TZOFFSETTO:-0500
TZNAME:EST
DTSTART:20271107T060000
END:STANDARD
END:VTIMEZONE
BEGIN:VEVENT
DTSTART;TZID=America/New_York:20260211T083000
DTEND;TZID=America/New_York:20260211T150000
DTSTAMP:20260425T092539
CREATED:20250808T172136Z
LAST-MODIFIED:20250808T172136Z
UID:9462-1770798600-1770822000@www.uss-elca.org
SUMMARY:Quarterly Pericope Study
DESCRIPTION:United Lutheran Seminary’s Dr. Allison DeForest will lead Quarterly Pericope Studies on February 11\, and May 27 at The Lutheran Home in Hollidaysburg\, from 8:30- 3:00. Cost is $20.00 (payment may be made through registration link or brought to the event). Seating is limited. \nRegister Here
URL:https://www.uss-elca.org/event/quarterly-pericope-study-3/
LOCATION:Lutheran Home\, 916 Hickory St\, Hollidaysburg\, PA\, 16648\, United States
ATTACH;FMTTYPE=image/png:https://www.uss-elca.org/wp-content/uploads/2024/10/dark-brown.png
ORGANIZER;CN="John Kratz":MAILTO:director@alleghenysynod.com
END:VEVENT
BEGIN:VEVENT
DTSTART;TZID=America/New_York:20260221T090000
DTEND;TZID=America/New_York:20260221T130000
DTSTAMP:20260425T092539
CREATED:20250913T142723Z
LAST-MODIFIED:20250913T142723Z
UID:9560-1771664400-1771678800@www.uss-elca.org
SUMMARY:Synod Council Meeting
DESCRIPTION:
URL:https://www.uss-elca.org/event/synod-council-meeting-24/
LOCATION:PA
ATTACH;FMTTYPE=image/png:https://www.uss-elca.org/wp-content/uploads/2025/08/Synod-Council-1.png
END:VEVENT
BEGIN:VEVENT
DTSTART;TZID=America/New_York:20260425T090000
DTEND;TZID=America/New_York:20260425T130000
DTSTAMP:20260425T092539
CREATED:20250913T142828Z
LAST-MODIFIED:20250913T142828Z
UID:9562-1777107600-1777122000@www.uss-elca.org
SUMMARY:Synod Council Meeting
DESCRIPTION:
URL:https://www.uss-elca.org/event/synod-council-meeting-25/
LOCATION:PA
ATTACH;FMTTYPE=image/png:https://www.uss-elca.org/wp-content/uploads/2025/08/Synod-Council-1.png
END:VEVENT
BEGIN:VEVENT
DTSTART;TZID=America/New_York:20260426T180000
DTEND;TZID=America/New_York:20260426T200000
DTSTAMP:20260425T092539
CREATED:20250916T165312Z
LAST-MODIFIED:20250916T165312Z
UID:9595-1777226400-1777233600@www.uss-elca.org
SUMMARY:Conference Assembly- Juniata Valley
DESCRIPTION:
URL:https://www.uss-elca.org/event/conference-assembly-juniata-valley/
LOCATION:PA
ATTACH;FMTTYPE=image/png:https://www.uss-elca.org/wp-content/uploads/2025/01/conference-assembly.png
END:VEVENT
BEGIN:VEVENT
DTSTART;TZID=America/New_York:20260527T083000
DTEND;TZID=America/New_York:20260527T150000
DTSTAMP:20260425T092539
CREATED:20250808T171836Z
LAST-MODIFIED:20250808T172321Z
UID:9455-1779870600-1779894000@www.uss-elca.org
SUMMARY:Quarterly Pericope Study
DESCRIPTION:United Lutheran Seminary’s Dr. Allison DeForest will lead Quarterly Pericope Studies on May 27 at The Lutheran Home in Hollidaysburg\, from 8:30- 3:00. Cost is $20.00 (payment may be made through registration link or brought to the event). Seating is limited. \nRegister Here
URL:https://www.uss-elca.org/event/quarterly-pericope-study/
LOCATION:Lutheran Home\, 916 Hickory St\, Hollidaysburg\, PA\, 16648\, United States
CATEGORIES:Events
ATTACH;FMTTYPE=image/png:https://www.uss-elca.org/wp-content/uploads/2024/10/dark-brown.png
ORGANIZER;CN="John Kratz":MAILTO:director@alleghenysynod.com
END:VEVENT
BEGIN:VEVENT
DTSTART;VALUE=DATE:20260606
DTEND;VALUE=DATE:20260607
DTSTAMP:20260425T092539
CREATED:20250908T223750Z
LAST-MODIFIED:20250908T223750Z
UID:9525-1780704000-1780790399@www.uss-elca.org
SUMMARY:Synod Assembly
DESCRIPTION:
URL:https://www.uss-elca.org/event/synod-assembly-7/
LOCATION:PA
ATTACH;FMTTYPE=image/png:https://www.uss-elca.org/wp-content/uploads/2025/09/Assembly-Save-the-Date.png
END:VEVENT
BEGIN:VEVENT
DTSTART;TZID=America/New_York:20260708T171500
DTEND;TZID=America/New_York:20260708T193000
DTSTAMP:20260425T092539
CREATED:20250913T142919Z
LAST-MODIFIED:20250913T143014Z
UID:9564-1783530900-1783539000@www.uss-elca.org
SUMMARY:Synod Council Meeting
DESCRIPTION:
URL:https://www.uss-elca.org/event/synod-council-meeting-26/
LOCATION:Camp Mount Luther\, 355 Mt. Luther Lane\, Mifflinburg\, PA\, 17844\, United States
ATTACH;FMTTYPE=image/png:https://www.uss-elca.org/wp-content/uploads/2025/08/Synod-Council-1.png
END:VEVENT
END:VCALENDAR