BEGIN:VCALENDAR
VERSION:2.0
PRODID:-//Upper Susquehanna Synod - ECPv6.15.20//NONSGML v1.0//EN
CALSCALE:GREGORIAN
METHOD:PUBLISH
X-WR-CALNAME:Upper Susquehanna Synod
X-ORIGINAL-URL:https://www.uss-elca.org
X-WR-CALDESC:Events for Upper Susquehanna Synod
REFRESH-INTERVAL;VALUE=DURATION:PT1H
X-Robots-Tag:noindex
X-PUBLISHED-TTL:PT1H
BEGIN:VTIMEZONE
TZID:America/New_York
BEGIN:DAYLIGHT
TZOFFSETFROM:-0500
TZOFFSETTO:-0400
TZNAME:EDT
DTSTART:20230312T070000
END:DAYLIGHT
BEGIN:STANDARD
TZOFFSETFROM:-0400
TZOFFSETTO:-0500
TZNAME:EST
DTSTART:20231105T060000
END:STANDARD
BEGIN:DAYLIGHT
TZOFFSETFROM:-0500
TZOFFSETTO:-0400
TZNAME:EDT
DTSTART:20240310T070000
END:DAYLIGHT
BEGIN:STANDARD
TZOFFSETFROM:-0400
TZOFFSETTO:-0500
TZNAME:EST
DTSTART:20241103T060000
END:STANDARD
BEGIN:DAYLIGHT
TZOFFSETFROM:-0500
TZOFFSETTO:-0400
TZNAME:EDT
DTSTART:20250309T070000
END:DAYLIGHT
BEGIN:STANDARD
TZOFFSETFROM:-0400
TZOFFSETTO:-0500
TZNAME:EST
DTSTART:20251102T060000
END:STANDARD
END:VTIMEZONE
BEGIN:VEVENT
DTSTART;TZID=America/New_York:20240820T120000
DTEND;TZID=America/New_York:20240820T130000
DTSTAMP:20260425T201148
CREATED:20240811T171257Z
LAST-MODIFIED:20240811T171257Z
UID:8646-1724155200-1724158800@www.uss-elca.org
SUMMARY:God's Love Made Real
DESCRIPTION:Join ELCA Presiding Bishop Elizabeth Eaton for a conversation about God’s Love Made Real. This ELCA movement encourages us to create a world experiencing the difference God’s grace and love in Christ make for all people and creation. \nTuesday\, Aug. 20\, 12 p.m. Eastern time \nRegistration is encouraged\, but not required.\nThis event will take place on Zoom. (Save this link.) \nWhat can I expect?\nBishop Eaton will share why God’s Love Made Real is meaningful to her and the future of the church. The Rev. Kurt F. Kusserow\, bishop of the Southwestern Pennsylvania Synod\, will host the conversation\, and participants will have a chance to ask questions and share stories. \nIs this event for me? \nThis webinar is especially for people who care about the ELCA and live in the Northwestern Pennsylvania; Southwestern Pennsylvania; Allegheny; Lower Susquehanna; Upper Susquehanna; Delaware-Maryland; Metropolitan Washington\, D.C.; or West Virginia-Western Maryland synods. If you don’t live in one of these synods\, stay tuned for an upcoming event in your region. \nCan I watch it later?\nA recording may be available at some point in the future\, but we encourage you to stream the event live on Tuesday\, Aug. 20\, at 12 p.m. Eastern time. \nWhat else do I need to know?\nLearn more about God’s Love Made Real at lovemadereal.elca.org.
URL:https://www.uss-elca.org/event/gods-love-made-real/
CATEGORIES:Events
ATTACH;FMTTYPE=image/png:https://www.uss-elca.org/wp-content/uploads/2024/08/Aug-20-Gods-Love-Made-Real-instagram.png
END:VEVENT
BEGIN:VEVENT
DTSTART;TZID=America/New_York:20240827T180000
DTEND;TZID=America/New_York:20240827T190000
DTSTAMP:20260425T201148
CREATED:20240823T160237Z
LAST-MODIFIED:20240823T160237Z
UID:8690-1724781600-1724785200@www.uss-elca.org
SUMMARY:Pixels for Peace
DESCRIPTION:Pixels for Peace: Digital Peacebuilding Webinar \nAugust 27 @ 6 – 7p.m. OR September 12 @ 12:30-1:30 \nAs Christians\, we are called to be peacemakers. This work is deeply needed in digital spaces\, where conflicts and disinformation too often drive apart congregants and friends. Common Ground USA and Lutheran Advocacy Ministry in Pennsylvania (LAMPa) invite you to Pixels for Peace to understand how our digital worlds are shaping polarization and what we can do individually and together to build peace online. \nPixels for Peace will cover: \n\nHow and why digital spaces shape the way we understand the world and each other\nHow forces of disconnection try to manipulate online audiences\nWhat works to respond to online division and hate\n\nRegister here for August 27 at 6pm! \n\n\nRegister here for September 12 at 12:30 pm!
URL:https://www.uss-elca.org/event/pixels-for-peace/
ATTACH;FMTTYPE=image/png:https://www.uss-elca.org/wp-content/uploads/2024/08/46d6d0c0-f333-a647-52ff-8f053593fd62.png
END:VEVENT
BEGIN:VEVENT
DTSTART;TZID=America/New_York:20240831T090000
DTEND;TZID=America/New_York:20240831T233000
DTSTAMP:20260425T201148
CREATED:20240811T165638Z
LAST-MODIFIED:20240811T171509Z
UID:8632-1725094800-1725147000@www.uss-elca.org
SUMMARY:CML Dandelion Run
DESCRIPTION:For more information\, visit https://www.campmountluther.org/events/
URL:https://www.uss-elca.org/event/cml-dandelion-run/
LOCATION:Camp Mount Luther\, 355 Mt. Luther Lane\, Mifflinburg\, PA\, 17844\, United States
CATEGORIES:Events
ATTACH;FMTTYPE=image/png:https://www.uss-elca.org/wp-content/uploads/2024/08/Dandelion-Logo-IG.png
ORGANIZER;CN="Camp Mount Luther":MAILTO:cml@campmountluther.org
END:VEVENT
END:VCALENDAR