BEGIN:VCALENDAR
VERSION:2.0
PRODID:-//Upper Susquehanna Synod - ECPv6.15.20//NONSGML v1.0//EN
CALSCALE:GREGORIAN
METHOD:PUBLISH
X-ORIGINAL-URL:https://www.uss-elca.org
X-WR-CALDESC:Events for Upper Susquehanna Synod
REFRESH-INTERVAL;VALUE=DURATION:PT1H
X-Robots-Tag:noindex
X-PUBLISHED-TTL:PT1H
BEGIN:VTIMEZONE
TZID:America/New_York
BEGIN:DAYLIGHT
TZOFFSETFROM:-0500
TZOFFSETTO:-0400
TZNAME:EDT
DTSTART:20230312T070000
END:DAYLIGHT
BEGIN:STANDARD
TZOFFSETFROM:-0400
TZOFFSETTO:-0500
TZNAME:EST
DTSTART:20231105T060000
END:STANDARD
BEGIN:DAYLIGHT
TZOFFSETFROM:-0500
TZOFFSETTO:-0400
TZNAME:EDT
DTSTART:20240310T070000
END:DAYLIGHT
BEGIN:STANDARD
TZOFFSETFROM:-0400
TZOFFSETTO:-0500
TZNAME:EST
DTSTART:20241103T060000
END:STANDARD
BEGIN:DAYLIGHT
TZOFFSETFROM:-0500
TZOFFSETTO:-0400
TZNAME:EDT
DTSTART:20250309T070000
END:DAYLIGHT
BEGIN:STANDARD
TZOFFSETFROM:-0400
TZOFFSETTO:-0500
TZNAME:EST
DTSTART:20251102T060000
END:STANDARD
END:VTIMEZONE
BEGIN:VEVENT
DTSTART;TZID=America/New_York:20241010T090000
DTEND;TZID=America/New_York:20241010T150000
DTSTAMP:20260425T174008
CREATED:20240811T182506Z
LAST-MODIFIED:20240928T215819Z
UID:8659-1728550800-1728572400@www.uss-elca.org
SUMMARY:Fall Bishop's Day
DESCRIPTION:The next Bishop’s Day of 2024 is scheduled for October 10\, at Camp Mount Luther. This day is available for clergy and lay leaders. Please bring whatever you would like to do to celebrate a sabbath day in fellowship with others or reflecting on your own. There will be no formal program in the morning\, rather time for you to walk the grounds\, talk with others\, do crafts\, or whatever you need to get away. Bishop Miller will also be available for individual conversation. \nA worship service “For the Healing of the Nations” will be held at 11:00 a.m. Lunch will be provided. Please RSVP to brenda@uss-elca.org by noon on October 7 if you plan to eat lunch. \nAt 1:00 p.m.\, the Global Mission Team invites all people in the Upper Susquehanna Synod to say “thank you” to our missionary\, Linda Johnson Seyenkulo\, who is retiring this year.  No reservations are needed for the reception. Light refreshments will be served.  Pastor Linda will speak about her time in Liberia\, her work at Louis T. Bowers Lay Leaders and Ministers Training Center in Totota and the rebuilding post-Civil War.  We hope you can join us in giving thanks for her leadership and serving in Liberia for the glory of God and her hopes and dreams for the Liberians in the future. \nIf you are interested in helping with Bishop’s Days in the future (like planning worship)\, be in touch with chad@campmountluther.org. The last Bishop’s Days for 2024 is planned for December 12\, 2024\, at the Milton Lutheran Church (Synod Office location). The Antiracism Committee will use the December Bishop’s Day for an introduction to the Intercultural Development Inventory.
URL:https://www.uss-elca.org/event/fall-bishops-day/
LOCATION:Camp Mount Luther\, 355 Mt. Luther Lane\, Mifflinburg\, PA\, 17844\, United States
ATTACH;FMTTYPE=image/png:https://www.uss-elca.org/wp-content/uploads/2024/06/2dd7d8af-adc3-9b83-ea6f-a265e2e2d365.png
ORGANIZER;CN="Chad Hershberger & Jim Vitale":MAILTO:chad@campmountluther.org
END:VEVENT
BEGIN:VEVENT
DTSTART;TZID=America/New_York:20241010T130000
DTEND;TZID=America/New_York:20241010T150000
DTSTAMP:20260425T174008
CREATED:20240811T170235Z
LAST-MODIFIED:20240811T172011Z
UID:8639-1728565200-1728572400@www.uss-elca.org
SUMMARY:Reception for Liberian Missionary
DESCRIPTION:The Global Mission Team invites all people in the Upper Susquehanna Synod to say “thank you” to our missionary\, Linda Johnson Seyenkulo\, who is retiring this year.  Rev. Linda will be at Bishop’s Day held at Camp Mount Luther on Thursday\, October 10.  The reception will begin at 1:00 p.m. and no reservations are needed.  Light refreshments will be served.  Pastor Linda will speak about her time in Liberia\, her work at Louis T. Bowers Lay Leaders and Ministers Training Center in Totota and the rebuilding post-Civil War.  We hope you can join us in giving thanks for her leadership and serving in Liberia for the glory of God and her hopes and dreams for the Liberians in the future.
URL:https://www.uss-elca.org/event/reception-for-liberian-missionary/
LOCATION:Camp Mount Luther\, 355 Mt. Luther Lane\, Mifflinburg\, PA\, 17844\, United States
CATEGORIES:Events
ATTACH;FMTTYPE=image/jpeg:https://www.uss-elca.org/wp-content/uploads/2020/07/LJSLinda.jpg
END:VEVENT
BEGIN:VEVENT
DTSTART;TZID=America/New_York:20241015T200000
DTEND;TZID=America/New_York:20241015T210000
DTSTAMP:20260425T174008
CREATED:20240820T115429Z
LAST-MODIFIED:20240820T115429Z
UID:8680-1729022400-1729026000@www.uss-elca.org
SUMMARY:World Food Day
DESCRIPTION:Join ELCA World Hunger for a celebration of World Food Day and the 50th anniversary of ELCA World Hunger! This special online event will be hosted by the Rev. Amy Current\, bishop of the Southeastern Iowa Synod\, and Imran Siddiqui\, vice president of the ELCA. Tune in on Oct. 15 to hear firsthand stories from partners at ELCA World Hunger projects — including Educación Popular en Salud (EPES)\, a community health organization in Chile that was founded over 40 years ago\, and more recent starts such as Tapestry Farms\, a Midwestern urban-farm system in the “Quad Cities” of Iowa and Illinois. You’ll see the impact of 50 years of ELCA World Hunger work and get excited and equipped to be part of the next 50 years! Register at the link here to receive reminders\, event information\, World Food Day resources and the event recording.
URL:https://www.uss-elca.org/event/world-food-day/
CATEGORIES:Events
ATTACH;FMTTYPE=image/jpeg:https://www.uss-elca.org/wp-content/uploads/2024/08/WFDBanner600x200_081424b.jpg
END:VEVENT
BEGIN:VEVENT
DTSTART;TZID=America/New_York:20241019T090000
DTEND;TZID=America/New_York:20241019T120000
DTSTAMP:20260425T174008
CREATED:20240905T234141Z
LAST-MODIFIED:20240905T234141Z
UID:8741-1729328400-1729339200@www.uss-elca.org
SUMMARY:Blanket Sunday Collection
DESCRIPTION:BLANKET SUNDAY IS OCTOBER 6\, 2024 \nSponsored jointly by the Women of the ELCA and the Committee for Global Missions\, the collection will be Saturday\, October 19\, from 9:00 a.m. to Noon at Faith Lutheran Church\, 2349 Old Turnpike Road\, Lewisburg\, PA The container should be available from October 18 until October 22. Please load to the back of the container.
URL:https://www.uss-elca.org/event/blanket-sunday-collection/
LOCATION:Faith Lutheran\, Lewisburg\, 2349 Old Turnpike Road\, Lewisburg\, 17837\, United States
ATTACH;FMTTYPE=image/png:https://www.uss-elca.org/wp-content/uploads/2024/09/blankets2.png
END:VEVENT
BEGIN:VEVENT
DTSTART;TZID=America/New_York:20241019T090000
DTEND;TZID=America/New_York:20241019T150000
DTSTAMP:20260425T174008
CREATED:20240811T170111Z
LAST-MODIFIED:20240920T220853Z
UID:8635-1729328400-1729350000@www.uss-elca.org
SUMMARY:A Variety of Gifts
DESCRIPTION:Workshops include: \n\nNo pastor?  No problem!\nChoosing Hymns\, connecting them with the liturgy\nMission Workshop\nEngaging with your community\n\nTime built in for fellowship and collaboration
URL:https://www.uss-elca.org/event/a-variety-of-gifts/
LOCATION:Milton Lutheran Church\, 1125 Mahoning St\, Milton\, PA\, 17847\, United States
CATEGORIES:Events
ATTACH;FMTTYPE=image/jpeg:https://www.uss-elca.org/wp-content/uploads/2024/08/A-Variety-of-GIfts-Flyer-10.19.24-scaled.jpg
END:VEVENT
BEGIN:VEVENT
DTSTART;TZID=America/New_York:20241020T140000
DTEND;TZID=America/New_York:20241020T170000
DTSTAMP:20260425T174008
CREATED:20241003T192143Z
LAST-MODIFIED:20241014T203337Z
UID:8837-1729432800-1729443600@www.uss-elca.org
SUMMARY:Youth Mystery Night
DESCRIPTION:The next synod youth event is this Sunday! RSVP by October 19 here:\n\n\nhttps://docs.google.com/forms/d/e/1FAIpQLSfmZ2b9LzjZpyIDVQb3g-hGbD_GTq0IzuYh3AYAJSr-pvzXkQ/viewform
URL:https://www.uss-elca.org/event/youth-murder-mystery/
LOCATION:St. Matthew’s Lutheran Church\, 3249 N Old Trail\, Shamokin Dam\, 17876\, United States
ATTACH;FMTTYPE=image/jpeg:https://www.uss-elca.org/wp-content/uploads/2024/10/2024-10-12-21.05.26.jpg
END:VEVENT
END:VCALENDAR