BEGIN:VCALENDAR
VERSION:2.0
PRODID:-//Upper Susquehanna Synod - ECPv6.15.20//NONSGML v1.0//EN
CALSCALE:GREGORIAN
METHOD:PUBLISH
X-ORIGINAL-URL:https://www.uss-elca.org
X-WR-CALDESC:Events for Upper Susquehanna Synod
REFRESH-INTERVAL;VALUE=DURATION:PT1H
X-Robots-Tag:noindex
X-PUBLISHED-TTL:PT1H
BEGIN:VTIMEZONE
TZID:America/New_York
BEGIN:DAYLIGHT
TZOFFSETFROM:-0500
TZOFFSETTO:-0400
TZNAME:EDT
DTSTART:20240310T070000
END:DAYLIGHT
BEGIN:STANDARD
TZOFFSETFROM:-0400
TZOFFSETTO:-0500
TZNAME:EST
DTSTART:20241103T060000
END:STANDARD
BEGIN:DAYLIGHT
TZOFFSETFROM:-0500
TZOFFSETTO:-0400
TZNAME:EDT
DTSTART:20250309T070000
END:DAYLIGHT
BEGIN:STANDARD
TZOFFSETFROM:-0400
TZOFFSETTO:-0500
TZNAME:EST
DTSTART:20251102T060000
END:STANDARD
BEGIN:DAYLIGHT
TZOFFSETFROM:-0500
TZOFFSETTO:-0400
TZNAME:EDT
DTSTART:20260308T070000
END:DAYLIGHT
BEGIN:STANDARD
TZOFFSETFROM:-0400
TZOFFSETTO:-0500
TZNAME:EST
DTSTART:20261101T060000
END:STANDARD
END:VTIMEZONE
BEGIN:VEVENT
DTSTART;TZID=America/New_York:20250208T093000
DTEND;TZID=America/New_York:20250208T130000
DTSTAMP:20260425T111114
CREATED:20241005T132930Z
LAST-MODIFIED:20241005T132947Z
UID:8849-1739007000-1739019600@www.uss-elca.org
SUMMARY:Synod Council Meeting
DESCRIPTION:Online
URL:https://www.uss-elca.org/event/synod-council-meeting-3/
ATTACH;FMTTYPE=image/png:https://www.uss-elca.org/wp-content/uploads/2024/10/Upper-Susquehanna-Synod.png
END:VEVENT
BEGIN:VEVENT
DTSTART;TZID=America/New_York:20250216T140000
DTEND;TZID=America/New_York:20250216T170000
DTSTAMP:20260425T111114
CREATED:20250122T151958Z
LAST-MODIFIED:20250122T152429Z
UID:9085-1739714400-1739725200@www.uss-elca.org
SUMMARY:Synod Youth Ministry Trivia Night
DESCRIPTION:Do you enjoy church but wish there were more kids your own age? Well then we have good news for you! You are invited to the Upper Susquehanna Synod Youth Group’s next gathering on Sunday\, February 16\, from 2:00 p.m. to 5:00 p.m. at Milton Lutheran Church\, Milton. The theme is a Trivia Night! All youth in grades 6-12 are invited! We hope to see you there!
URL:https://www.uss-elca.org/event/youth-ministry-trivia-night/
LOCATION:Milton Lutheran Church\, 1125 Mahoning St\, Milton\, PA\, 17847\, United States
ATTACH;FMTTYPE=image/png:https://www.uss-elca.org/wp-content/uploads/2025/01/2025-01-21-19.24.20.png
END:VEVENT
BEGIN:VEVENT
DTSTART;VALUE=DATE:20250220
DTEND;VALUE=DATE:20250221
DTSTAMP:20260425T111114
CREATED:20241209T203323Z
LAST-MODIFIED:20241209T203323Z
UID:9023-1740009600-1740095999@www.uss-elca.org
SUMMARY:Bishop's Day
DESCRIPTION:Bishop Miller invites Rostered and Lay leaders of the synod to Bishop’s Day\, 9:00 a.m. – 3:00 p.m.\, February 20\, 2025\, at the synod office\, 100 Mahoning Street\, Milton*. Pastor Scott Kershner will present the second part of the Intercultural Development Inventory. The Intercultural Development Inventory (IDI) is a widely used and effective cross-culturally valid assessment for building cultural competence. It is equally valuable for learning how to better navigate the polarized cultural and political climate\, especially in our churches. The IDI is broadly about cultural and worldview difference and how we navigate that effectively. \n*This opportunity fulfills the expectations for Rostered Leaders and Authorized Lay Leaders to complete training in anti-racism.
URL:https://www.uss-elca.org/event/bishops-day/
ATTACH;FMTTYPE=image/png:https://www.uss-elca.org/wp-content/uploads/2024/10/2dd7d8af-adc3-9b83-ea6f-a265e2e2d365.png
END:VEVENT
BEGIN:VEVENT
DTSTART;TZID=America/New_York:20250223T140000
DTEND;TZID=America/New_York:20250223T160000
DTSTAMP:20260425T111114
CREATED:20250125T190027Z
LAST-MODIFIED:20250125T190742Z
UID:9091-1740319200-1740326400@www.uss-elca.org
SUMMARY:Taste of Camp
DESCRIPTION:Hungry for camp but can’t wait until the summer? Always wanted to try camp but not sure you’ll like it? Camp Mount Luther has an event for you! On February 23\, 2025\, from 2:00-4:00 p.m.\, you can get a Taste of Camp! Enjoy songs\, food\, games\, a campfire program\, information on the 2025 program\, and more! Those who attend will get Camel Bucks to spend in the camp store this summer. \nThis year’s summer camp season will begin on June 15 and run until August 1. There are programs for all ages from elementary to senior high\, and for adults and families. If you’re looking for a place where your child can grow in faith and have fun doing it\, Camp Mount Luther is that place. Don’t settle for second-rate summer programs. Camp Mount Luther has been giving kids fun\, exciting\, faith-filled\, outdoor experiences for over 60 years. If you have questions about our summer programs\, feel free to reach out to us at cml@campmountluther.org!
URL:https://www.uss-elca.org/event/taste-of-camp/
LOCATION:Camp Mount Luther\, 355 Mt. Luther Lane\, Mifflinburg\, PA\, 17844\, United States
ATTACH;FMTTYPE=image/png:https://www.uss-elca.org/wp-content/uploads/2025/01/February-20.png
END:VEVENT
BEGIN:VEVENT
DTSTART;TZID=America/New_York:20250223T160000
DTEND;TZID=America/New_York:20250223T180000
DTSTAMP:20260425T111114
CREATED:20250125T190546Z
LAST-MODIFIED:20250125T190546Z
UID:9094-1740326400-1740333600@www.uss-elca.org
SUMMARY:CML Fundraising Dinner
DESCRIPTION:Join Camp Mount Luther on Sunday\, February 23\, 2025\, from 4:00 p.m. to 6:00 p.m. at the Evergreen Center at the camp for a Fundraising Dinner! The dinner will be held immediately following the camp’s annual Taste of Camp event featuring songs\, snacks\, games\, a campfire program\, information on the 2025 program\, and more! \nThe menu will consist of ham\, twice-baked potatoes\, vegetable\, roll\, dessert and beverage. A minimum of $15 per person is suggested as a donation for the meal. Reservations are needed and can be made by contacting the camp office at (570) 922-1587 or cml@campmountluther.org. The deadline for reservations is Tuesday\, February 18\, 2025\, at 9:00 a.m. \nCome and enjoy some fellowship\, fun and good food during the wintertime at Camp Mount Luther! It should be a great afternoon to gather and support our outdoor ministry!
URL:https://www.uss-elca.org/event/cml-fundraising-dinner/
LOCATION:Camp Mount Luther\, 355 Mt. Luther Lane\, Mifflinburg\, PA\, 17844\, United States
ATTACH;FMTTYPE=image/png:https://www.uss-elca.org/wp-content/uploads/2025/01/February-13.png
END:VEVENT
END:VCALENDAR