BEGIN:VCALENDAR
VERSION:2.0
PRODID:-//Upper Susquehanna Synod - ECPv6.15.20//NONSGML v1.0//EN
CALSCALE:GREGORIAN
METHOD:PUBLISH
X-WR-CALNAME:Upper Susquehanna Synod
X-ORIGINAL-URL:https://www.uss-elca.org
X-WR-CALDESC:Events for Upper Susquehanna Synod
REFRESH-INTERVAL;VALUE=DURATION:PT1H
X-Robots-Tag:noindex
X-PUBLISHED-TTL:PT1H
BEGIN:VTIMEZONE
TZID:America/New_York
BEGIN:DAYLIGHT
TZOFFSETFROM:-0500
TZOFFSETTO:-0400
TZNAME:EDT
DTSTART:20240310T070000
END:DAYLIGHT
BEGIN:STANDARD
TZOFFSETFROM:-0400
TZOFFSETTO:-0500
TZNAME:EST
DTSTART:20241103T060000
END:STANDARD
BEGIN:DAYLIGHT
TZOFFSETFROM:-0500
TZOFFSETTO:-0400
TZNAME:EDT
DTSTART:20250309T070000
END:DAYLIGHT
BEGIN:STANDARD
TZOFFSETFROM:-0400
TZOFFSETTO:-0500
TZNAME:EST
DTSTART:20251102T060000
END:STANDARD
BEGIN:DAYLIGHT
TZOFFSETFROM:-0500
TZOFFSETTO:-0400
TZNAME:EDT
DTSTART:20260308T070000
END:DAYLIGHT
BEGIN:STANDARD
TZOFFSETFROM:-0400
TZOFFSETTO:-0500
TZNAME:EST
DTSTART:20261101T060000
END:STANDARD
END:VTIMEZONE
BEGIN:VEVENT
DTSTART;TZID=America/New_York:20250709T180000
DTEND;TZID=America/New_York:20250709T200000
DTSTAMP:20260425T000425
CREATED:20241005T133310Z
LAST-MODIFIED:20241005T133310Z
UID:8853-1752084000-1752091200@www.uss-elca.org
SUMMARY:Synod Council Meeting
DESCRIPTION:At Camp Mount Luther; Dinner served at 5:15 p.m.
URL:https://www.uss-elca.org/event/synod-council-meeting-21/
ATTACH;FMTTYPE=image/png:https://www.uss-elca.org/wp-content/uploads/2024/10/Upper-Susquehanna-Synod.png
END:VEVENT
BEGIN:VEVENT
DTSTART;VALUE=DATE:20250720
DTEND;VALUE=DATE:20250727
DTSTAMP:20260425T000425
CREATED:20250112T194252Z
LAST-MODIFIED:20250327T144225Z
UID:9050-1752969600-1753574399@www.uss-elca.org
SUMMARY:Youth Service Learning Camp
DESCRIPTION:Pastor Gary Schaeffer (Milton Lutheran) and Charlene Rineer (Christ’s\, Lewisburg) are organizing a youth mission trip for this summer. They are inviting anyone who would like to be part of it to join them. Some information is below. Reminder:  Youth who want to go will need to pay a deposit of $100.00 by Easter. \n  \nClick here for a flyer with this information. \nToledo\, Ohio Service Learning Camp\nJuly 20-26\, 2025 Cost – $425.00\nFor 6th through 12th graders\nContacts – Cassie Mugler and Don Marsh \nSome of the possible projects \n\nLet’s Build Beds. This is a wonderful organization that builds beds for children ages 3-17. The goal is to provide safe sleeping space. This project involves building the beds and delivering them (if you choose) to the children. There is also an opportunity to get your congregation involved by collecting bedding and bringing it along.\nClean Your Streams. Toledo is on Lake Erie\, and we have been affected by lack of clean water in our area over the years. This project usually involves trash pick-up or cleaning/painting storm drains.\nInner city community gardens\nBuilding picnic tables\nWorking at the food bank packing boxes for senior citizens\n\nA hunger workshop at the beginning to help Groups get in the mindset of serving people in poverty. One thing they will be doing this summer specifically is trying to get groups to interact with more people in the community. \nAdditionally\, the area has a wonderful Park system. We can do things like hike\, kayak/canoe\, swim\, par9cipate in a class at the park (archery\, fishing\, Paddle-boarding\, Etc.) The zoo is world award-winning and has a high-ropes course (great for team building)! It is close to Cedar Point\, so the plan is to go there on Friday. \nWe will be staying at a church and making most of our meals there. We will have a few dinners out. Youth who want to go will need to pay a deposit of $100.00 by Easter.
URL:https://www.uss-elca.org/event/youth-service-learning-camp/
ATTACH;FMTTYPE=image/png:https://www.uss-elca.org/wp-content/uploads/2025/01/Untitled-design.png
END:VEVENT
BEGIN:VEVENT
DTSTART;VALUE=DATE:20250726
DTEND;VALUE=DATE:20250727
DTSTAMP:20260425T000425
CREATED:20250318T165928Z
LAST-MODIFIED:20250318T165928Z
UID:9188-1753488000-1753574399@www.uss-elca.org
SUMMARY:USSWO Convention
DESCRIPTION:The Upper Susquehanna Synodical Women’s Organization Convention will be held on July 26\, 2025\, at Faith Lutheran Church\, Lewisburg\, with the theme of For All the Faithful Women (Luke 1:45). This year they will be putting together Period Packs which will be sent to CWS for distribution. Each WELCA group attending the Convention is asked to bring either regular Tampons\, Super absorbency Tampons or packs of 12 Pads (unscented\, long super ultra-thin). The plan is to pack 200 kits. Any extra items will go to a local shelter. All other items needed for the kits will be supplied by the USSWO. Considering all the natural disasters the In­ gathering offering will be sent to Lutheran Disaster Response.
URL:https://www.uss-elca.org/event/usswo-convention-4/
ATTACH;FMTTYPE=image/webp:https://www.uss-elca.org/wp-content/uploads/2025/03/welca_logo-1.webp
END:VEVENT
END:VCALENDAR